BEGIN:VCALENDAR
VERSION:2.0
PRODID:-//NADI Felda Linggiu - ECPv6.15.20//NONSGML v1.0//EN
CALSCALE:GREGORIAN
METHOD:PUBLISH
X-WR-CALNAME:NADI Felda Linggiu
X-ORIGINAL-URL:https://feldalinggiu.nadi.my
X-WR-CALDESC:Events for NADI Felda Linggiu
REFRESH-INTERVAL;VALUE=DURATION:PT1H
X-Robots-Tag:noindex
X-PUBLISHED-TTL:PT1H
BEGIN:VTIMEZONE
TZID:UTC
BEGIN:STANDARD
TZOFFSETFROM:+0000
TZOFFSETTO:+0000
TZNAME:UTC
DTSTART:20220101T000000
END:STANDARD
END:VTIMEZONE
BEGIN:VEVENT
DTSTART;TZID=UTC:20231109T143000
DTEND;TZID=UTC:20231109T163000
DTSTAMP:20260425T213023
CREATED:20231109T143412Z
LAST-MODIFIED:20231109T143412Z
UID:1219-1699540200-1699547400@feldalinggiu.nadi.my
SUMMARY:ICT : Kelas Tutorial Membuat Letterhead Surat
DESCRIPTION:
URL:https://feldalinggiu.nadi.my/event/ict-kelas-tutorial-membuat-letterhead-surat/
LOCATION:PEDi Felda Linggiu\, PEDi Felda Linggiu
CATEGORIES:DEFAULT
END:VEVENT
BEGIN:VEVENT
DTSTART;TZID=UTC:20231109T143000
DTEND;TZID=UTC:20231109T163000
DTSTAMP:20260425T213023
CREATED:20231109T143412Z
LAST-MODIFIED:20231109T143412Z
UID:1349-1699540200-1699547400@feldalinggiu.nadi.my
SUMMARY:ICT : Kelas Tutorial Membuat Letterhead Surat
DESCRIPTION:
URL:https://feldalinggiu.nadi.my/event/ict-kelas-tutorial-membuat-letterhead-surat-2/
LOCATION:PEDi Felda Linggiu\, PEDi Felda Linggiu
CATEGORIES:DEFAULT
END:VEVENT
END:VCALENDAR