BEGIN:VCALENDAR
VERSION:2.0
PRODID:-//NADI Felda Linggiu - ECPv6.15.20//NONSGML v1.0//EN
CALSCALE:GREGORIAN
METHOD:PUBLISH
X-WR-CALNAME:NADI Felda Linggiu
X-ORIGINAL-URL:https://feldalinggiu.nadi.my
X-WR-CALDESC:Events for NADI Felda Linggiu
REFRESH-INTERVAL;VALUE=DURATION:PT1H
X-Robots-Tag:noindex
X-PUBLISHED-TTL:PT1H
BEGIN:VTIMEZONE
TZID:UTC
BEGIN:STANDARD
TZOFFSETFROM:+0000
TZOFFSETTO:+0000
TZNAME:UTC
DTSTART:20220101T000000
END:STANDARD
END:VTIMEZONE
BEGIN:VEVENT
DTSTART;TZID=UTC:20231117T143000
DTEND;TZID=UTC:20231117T173000
DTSTAMP:20260425T162744
CREATED:20231118T103602Z
LAST-MODIFIED:20231118T103602Z
UID:1229-1700231400-1700242200@feldalinggiu.nadi.my
SUMMARY:eLearning : Permainan Pendidikan Online
DESCRIPTION:
URL:https://feldalinggiu.nadi.my/event/elearning-permainan-pendidikan-online/
LOCATION:PEDi Felda Linggiu\, PEDi Felda Linggiu
CATEGORIES:DEFAULT
END:VEVENT
BEGIN:VEVENT
DTSTART;TZID=UTC:20231117T143000
DTEND;TZID=UTC:20231117T173000
DTSTAMP:20260425T162744
CREATED:20231118T103602Z
LAST-MODIFIED:20231118T103602Z
UID:1359-1700231400-1700242200@feldalinggiu.nadi.my
SUMMARY:eLearning : Permainan Pendidikan Online
DESCRIPTION:
URL:https://feldalinggiu.nadi.my/event/elearning-permainan-pendidikan-online-2/
LOCATION:PEDi Felda Linggiu\, PEDi Felda Linggiu
CATEGORIES:DEFAULT
END:VEVENT
END:VCALENDAR