BEGIN:VCALENDAR
VERSION:2.0
PRODID:-//NADI Felda Linggiu - ECPv6.15.20//NONSGML v1.0//EN
CALSCALE:GREGORIAN
METHOD:PUBLISH
X-WR-CALNAME:NADI Felda Linggiu
X-ORIGINAL-URL:https://feldalinggiu.nadi.my
X-WR-CALDESC:Events for NADI Felda Linggiu
REFRESH-INTERVAL;VALUE=DURATION:PT1H
X-Robots-Tag:noindex
X-PUBLISHED-TTL:PT1H
BEGIN:VTIMEZONE
TZID:UTC
BEGIN:STANDARD
TZOFFSETFROM:+0000
TZOFFSETTO:+0000
TZNAME:UTC
DTSTART:20230101T000000
END:STANDARD
END:VTIMEZONE
BEGIN:VEVENT
DTSTART;TZID=UTC:20240104T093000
DTEND;TZID=UTC:20240104T123000
DTSTAMP:20260424T171815
CREATED:20231229T174037Z
LAST-MODIFIED:20231229T174037Z
UID:1248-1704360600-1704371400@feldalinggiu.nadi.my
SUMMARY:Usahawan : Kursus Latihan Pengendali Makanan
DESCRIPTION:
URL:https://feldalinggiu.nadi.my/event/usahawan-kursus-latihan-pengendali-makanan/
LOCATION:ONLINE\, ONLINE
CATEGORIES:DEFAULT
ATTACH;FMTTYPE=image/jpeg:https://feldalinggiu.nadi.my/wp-content/uploads/2023/12/WhatsApp-Image-2023-12-27-at-12.40.35-PM.jpeg
END:VEVENT
BEGIN:VEVENT
DTSTART;TZID=UTC:20240104T093000
DTEND;TZID=UTC:20240104T123000
DTSTAMP:20260424T171815
CREATED:20231229T174037Z
LAST-MODIFIED:20231229T174037Z
UID:1378-1704360600-1704371400@feldalinggiu.nadi.my
SUMMARY:Usahawan : Kursus Latihan Pengendali Makanan
DESCRIPTION:
URL:https://feldalinggiu.nadi.my/event/usahawan-kursus-latihan-pengendali-makanan-4/
LOCATION:ONLINE\, ONLINE
CATEGORIES:DEFAULT
ATTACH;FMTTYPE=image/jpeg:https://feldalinggiu.nadi.my/wp-content/uploads/2023/12/WhatsApp-Image-2023-12-27-at-12.40.35-PM.jpeg
END:VEVENT
END:VCALENDAR