BEGIN:VCALENDAR
VERSION:2.0
PRODID:-//NADI Felda Linggiu - ECPv6.15.20//NONSGML v1.0//EN
CALSCALE:GREGORIAN
METHOD:PUBLISH
X-WR-CALNAME:NADI Felda Linggiu
X-ORIGINAL-URL:https://feldalinggiu.nadi.my
X-WR-CALDESC:Events for NADI Felda Linggiu
REFRESH-INTERVAL;VALUE=DURATION:PT1H
X-Robots-Tag:noindex
X-PUBLISHED-TTL:PT1H
BEGIN:VTIMEZONE
TZID:UTC
BEGIN:STANDARD
TZOFFSETFROM:+0000
TZOFFSETTO:+0000
TZNAME:UTC
DTSTART:20230101T000000
END:STANDARD
END:VTIMEZONE
BEGIN:VEVENT
DTSTART;TZID=UTC:20240316T100000
DTEND;TZID=UTC:20240316T113000
DTSTAMP:20260424T161340
CREATED:20240308T122809Z
LAST-MODIFIED:20240308T122809Z
UID:1271-1710583200-1710588600@feldalinggiu.nadi.my
SUMMARY:Soft Skill : Bengkel Penulisan Resume
DESCRIPTION:daftar : https://forms.gle/YcdkKXU4PcgMRKDu5
URL:https://feldalinggiu.nadi.my/event/soft-skill-bengkel-penulisan-resume/
LOCATION:NADI Felda Linggiu (Online)
CATEGORIES:DEFAULT
ATTACH;FMTTYPE=image/png:https://feldalinggiu.nadi.my/wp-content/uploads/2024/03/BENGKEL-PENULISAN-RESUME.png
END:VEVENT
BEGIN:VEVENT
DTSTART;TZID=UTC:20240316T100000
DTEND;TZID=UTC:20240316T113000
DTSTAMP:20260424T161340
CREATED:20240308T122809Z
LAST-MODIFIED:20240308T122809Z
UID:1393-1710583200-1710588600@feldalinggiu.nadi.my
SUMMARY:Soft Skill : Bengkel Penulisan Resume
DESCRIPTION:daftar : https://forms.gle/YcdkKXU4PcgMRKDu5
URL:https://feldalinggiu.nadi.my/event/soft-skill-bengkel-penulisan-resume-2/
LOCATION:NADI Felda Linggiu (Online)
CATEGORIES:DEFAULT
ATTACH;FMTTYPE=image/png:https://feldalinggiu.nadi.my/wp-content/uploads/2024/03/BENGKEL-PENULISAN-RESUME.png
END:VEVENT
END:VCALENDAR