BEGIN:VCALENDAR
VERSION:2.0
PRODID:-//NADI Felda Linggiu - ECPv6.15.20//NONSGML v1.0//EN
CALSCALE:GREGORIAN
METHOD:PUBLISH
X-WR-CALNAME:NADI Felda Linggiu
X-ORIGINAL-URL:https://feldalinggiu.nadi.my
X-WR-CALDESC:Events for NADI Felda Linggiu
REFRESH-INTERVAL;VALUE=DURATION:PT1H
X-Robots-Tag:noindex
X-PUBLISHED-TTL:PT1H
BEGIN:VTIMEZONE
TZID:UTC
BEGIN:STANDARD
TZOFFSETFROM:+0000
TZOFFSETTO:+0000
TZNAME:UTC
DTSTART:20230101T000000
END:STANDARD
END:VTIMEZONE
BEGIN:VEVENT
DTSTART;TZID=UTC:20240401T083000
DTEND;TZID=UTC:20240401T103000
DTSTAMP:20260423T230651
CREATED:20240403T091142Z
LAST-MODIFIED:20240403T091142Z
UID:1273-1711960200-1711967400@feldalinggiu.nadi.my
SUMMARY:STEM : Projek Table Lamp DIY
DESCRIPTION:
URL:https://feldalinggiu.nadi.my/event/stem-projek-table-lamp-diy/
LOCATION:PEDi Felda Linggiu\, PEDi Felda Linggiu
CATEGORIES:DEFAULT
END:VEVENT
BEGIN:VEVENT
DTSTART;TZID=UTC:20240401T083000
DTEND;TZID=UTC:20240401T103000
DTSTAMP:20260423T230651
CREATED:20240403T091142Z
LAST-MODIFIED:20240403T091142Z
UID:1395-1711960200-1711967400@feldalinggiu.nadi.my
SUMMARY:STEM : Projek Table Lamp DIY
DESCRIPTION:
URL:https://feldalinggiu.nadi.my/event/stem-projek-table-lamp-diy-2/
LOCATION:PEDi Felda Linggiu\, PEDi Felda Linggiu
CATEGORIES:DEFAULT
END:VEVENT
END:VCALENDAR