BEGIN:VCALENDAR
VERSION:2.0
PRODID:-//NADI Felda Linggiu - ECPv6.15.20//NONSGML v1.0//EN
CALSCALE:GREGORIAN
METHOD:PUBLISH
X-WR-CALNAME:NADI Felda Linggiu
X-ORIGINAL-URL:https://feldalinggiu.nadi.my
X-WR-CALDESC:Events for NADI Felda Linggiu
REFRESH-INTERVAL;VALUE=DURATION:PT1H
X-Robots-Tag:noindex
X-PUBLISHED-TTL:PT1H
BEGIN:VTIMEZONE
TZID:UTC
BEGIN:STANDARD
TZOFFSETFROM:+0000
TZOFFSETTO:+0000
TZNAME:UTC
DTSTART:20230101T000000
END:STANDARD
END:VTIMEZONE
BEGIN:VEVENT
DTSTART;TZID=UTC:20240505T093000
DTEND;TZID=UTC:20240505T153000
DTSTAMP:20260424T171812
CREATED:20240503T135618Z
LAST-MODIFIED:20240503T135618Z
UID:1283-1714901400-1714923000@feldalinggiu.nadi.my
SUMMARY:Advokasi: Pembukaan Kaunter Luar Cukai Tanah Johor 2024
DESCRIPTION:Pihak NADI Felda Linggiu menjemput Pejabat Tanah Kota Tinggi untuk kemudahan komuniti sekitar
URL:https://feldalinggiu.nadi.my/event/advokasi-pembukaan-kaunter-luar-cukai-tanah-johor-2024/
LOCATION:Dewan Masjid Jamek Felda Linggiu\, Dewan Masjid Jamek Felda Linggiu
CATEGORIES:DEFAULT
ATTACH;FMTTYPE=image/jpeg:https://feldalinggiu.nadi.my/wp-content/uploads/2024/05/WhatsApp-Image-2024-05-03-at-10.09.36.jpeg
END:VEVENT
BEGIN:VEVENT
DTSTART;TZID=UTC:20240505T093000
DTEND;TZID=UTC:20240505T153000
DTSTAMP:20260424T171812
CREATED:20240503T135618Z
LAST-MODIFIED:20240503T135618Z
UID:1401-1714901400-1714923000@feldalinggiu.nadi.my
SUMMARY:Advokasi: Pembukaan Kaunter Luar Cukai Tanah Johor 2024
DESCRIPTION:Pihak NADI Felda Linggiu menjemput Pejabat Tanah Kota Tinggi untuk kemudahan komuniti sekitar
URL:https://feldalinggiu.nadi.my/event/advokasi-pembukaan-kaunter-luar-cukai-tanah-johor-2024-2/
LOCATION:Dewan Masjid Jamek Felda Linggiu\, Dewan Masjid Jamek Felda Linggiu
CATEGORIES:DEFAULT
ATTACH;FMTTYPE=image/jpeg:https://feldalinggiu.nadi.my/wp-content/uploads/2024/05/WhatsApp-Image-2024-05-03-at-10.09.36.jpeg
END:VEVENT
END:VCALENDAR