BEGIN:VCALENDAR
VERSION:2.0
PRODID:-//NADI Felda Linggiu - ECPv6.15.20//NONSGML v1.0//EN
CALSCALE:GREGORIAN
METHOD:PUBLISH
X-WR-CALNAME:NADI Felda Linggiu
X-ORIGINAL-URL:https://feldalinggiu.nadi.my
X-WR-CALDESC:Events for NADI Felda Linggiu
REFRESH-INTERVAL;VALUE=DURATION:PT1H
X-Robots-Tag:noindex
X-PUBLISHED-TTL:PT1H
BEGIN:VTIMEZONE
TZID:UTC
BEGIN:STANDARD
TZOFFSETFROM:+0000
TZOFFSETTO:+0000
TZNAME:UTC
DTSTART:20230101T000000
END:STANDARD
END:VTIMEZONE
BEGIN:VEVENT
DTSTART;TZID=UTC:20240521T090000
DTEND;TZID=UTC:20240521T130000
DTSTAMP:20260423T194241
CREATED:20240514T095545Z
LAST-MODIFIED:20240514T095545Z
UID:1293-1716282000-1716296400@feldalinggiu.nadi.my
SUMMARY:Usahawan : Kursus Tanaman Cendawan Tiram
DESCRIPTION:TAJUK KURSUS : KURSUS TANAMAN CENDAWAN TIRAM \nTARIKH : 21 MEI 2024 (SELASA) \nMASA : 9.00 – 1.00 TENGAHARI\nLOKASI : NO 165\, BLOK 7\, FELDA KLEDANG\, KOTA TINGGI\, JOHOR\nKUOTA : 30 PESERTA\nDaftar di link ini : https://forms.gle/atMYc76gX5719u3T8
URL:https://feldalinggiu.nadi.my/event/usahawan-kursus-tanaman-cendawan-tiram/
LOCATION:NO 165\, BLOK 7\, FELDA KLEDANG\, KOTA TINGGI\, JOHOR\, NO 165\, BLOK 7\, FELDA KLEDANG\, KOTA TINGGI\, JOHOR
CATEGORIES:DEFAULT
ATTACH;FMTTYPE=image/jpeg:https://feldalinggiu.nadi.my/wp-content/uploads/2024/05/cendawan-tiram.jpg
END:VEVENT
BEGIN:VEVENT
DTSTART;TZID=UTC:20240521T090000
DTEND;TZID=UTC:20240521T130000
DTSTAMP:20260423T194241
CREATED:20240514T095545Z
LAST-MODIFIED:20240514T095545Z
UID:1407-1716282000-1716296400@feldalinggiu.nadi.my
SUMMARY:Usahawan : Kursus Tanaman Cendawan Tiram
DESCRIPTION:TAJUK KURSUS : KURSUS TANAMAN CENDAWAN TIRAM \nTARIKH : 21 MEI 2024 (SELASA) \nMASA : 9.00 – 1.00 TENGAHARI\nLOKASI : NO 165\, BLOK 7\, FELDA KLEDANG\, KOTA TINGGI\, JOHOR\nKUOTA : 30 PESERTA\nDaftar di link ini : https://forms.gle/atMYc76gX5719u3T8
URL:https://feldalinggiu.nadi.my/event/usahawan-kursus-tanaman-cendawan-tiram-2/
LOCATION:NO 165\, BLOK 7\, FELDA KLEDANG\, KOTA TINGGI\, JOHOR\, NO 165\, BLOK 7\, FELDA KLEDANG\, KOTA TINGGI\, JOHOR
CATEGORIES:DEFAULT
ATTACH;FMTTYPE=image/jpeg:https://feldalinggiu.nadi.my/wp-content/uploads/2024/05/cendawan-tiram.jpg
END:VEVENT
END:VCALENDAR