BEGIN:VCALENDAR
VERSION:2.0
PRODID:-//NADI Felda Linggiu - ECPv6.15.20//NONSGML v1.0//EN
CALSCALE:GREGORIAN
METHOD:PUBLISH
X-WR-CALNAME:NADI Felda Linggiu
X-ORIGINAL-URL:https://feldalinggiu.nadi.my
X-WR-CALDESC:Events for NADI Felda Linggiu
REFRESH-INTERVAL;VALUE=DURATION:PT1H
X-Robots-Tag:noindex
X-PUBLISHED-TTL:PT1H
BEGIN:VTIMEZONE
TZID:UTC
BEGIN:STANDARD
TZOFFSETFROM:+0000
TZOFFSETTO:+0000
TZNAME:UTC
DTSTART:20230101T000000
END:STANDARD
END:VTIMEZONE
BEGIN:VEVENT
DTSTART;TZID=UTC:20240612T080000
DTEND;TZID=UTC:20240612T130000
DTSTAMP:20260425T233217
CREATED:20240606T111844Z
LAST-MODIFIED:20240606T111844Z
UID:1297-1718179200-1718197200@feldalinggiu.nadi.my
SUMMARY:Usahawan : Kursus Hasilan Pes Masakan
DESCRIPTION:SESIAPA YANG BERMINAT SAHAJA kekosongan terhad\, siapa cepat dia dapat. (transport sendiri)\n.\nmasuk group sini: https://chat.whatsapp.com/EdXWjmtMSE4ANC6GgNmNFT\ndaftar disini: https://forms.gle/k5QjXjMJ5Dt1Aoca8
URL:https://feldalinggiu.nadi.my/event/usahawan-kursus-hasilan-pes-masakan/
LOCATION:PEJABAT PERTANIAN MAWAI\, KOTA TINGGI\, PEJABAT PERTANIAN MAWAI\, KOTA TINGGI
CATEGORIES:DEFAULT
ATTACH;FMTTYPE=image/jpeg:https://feldalinggiu.nadi.my/wp-content/uploads/2024/06/445464201_760385666264856_8722752639723816472_n.jpg
END:VEVENT
BEGIN:VEVENT
DTSTART;TZID=UTC:20240612T080000
DTEND;TZID=UTC:20240612T130000
DTSTAMP:20260425T233217
CREATED:20240606T111844Z
LAST-MODIFIED:20240606T111844Z
UID:1410-1718179200-1718197200@feldalinggiu.nadi.my
SUMMARY:Usahawan : Kursus Hasilan Pes Masakan
DESCRIPTION:SESIAPA YANG BERMINAT SAHAJA kekosongan terhad\, siapa cepat dia dapat. (transport sendiri)\n.\nmasuk group sini: https://chat.whatsapp.com/EdXWjmtMSE4ANC6GgNmNFT\ndaftar disini: https://forms.gle/k5QjXjMJ5Dt1Aoca8
URL:https://feldalinggiu.nadi.my/event/usahawan-kursus-hasilan-pes-masakan-2/
LOCATION:PEJABAT PERTANIAN MAWAI\, KOTA TINGGI\, PEJABAT PERTANIAN MAWAI\, KOTA TINGGI
CATEGORIES:DEFAULT
ATTACH;FMTTYPE=image/jpeg:https://feldalinggiu.nadi.my/wp-content/uploads/2024/06/445464201_760385666264856_8722752639723816472_n.jpg
END:VEVENT
END:VCALENDAR