BEGIN:VCALENDAR
VERSION:2.0
PRODID:-//NADI Felda Linggiu - ECPv6.15.13.1//NONSGML v1.0//EN
CALSCALE:GREGORIAN
METHOD:PUBLISH
X-WR-CALNAME:NADI Felda Linggiu
X-ORIGINAL-URL:https://feldalinggiu.nadi.my
X-WR-CALDESC:Events for NADI Felda Linggiu
REFRESH-INTERVAL;VALUE=DURATION:PT1H
X-Robots-Tag:noindex
X-PUBLISHED-TTL:PT1H
BEGIN:VTIMEZONE
TZID:UTC
BEGIN:STANDARD
TZOFFSETFROM:+0000
TZOFFSETTO:+0000
TZNAME:UTC
DTSTART:20250101T000000
END:STANDARD
END:VTIMEZONE
BEGIN:VEVENT
DTSTART;TZID=UTC:20260401T090000
DTEND;TZID=UTC:20260430T180000
DTSTAMP:20260422T035700
CREATED:20260328T044120Z
LAST-MODIFIED:20260328T062041Z
UID:2240-1775034000-1777572000@feldalinggiu.nadi.my
SUMMARY:REVISION VIDEO ON DEMAND - 35 HINGGA 39
DESCRIPTION:📢✨ PENDAFTARAN VIDEO ON DEMAND – REVISION VIDEO SESI 35 – 39 KINI DIBUKA! — 1 APRIL 2026 HINGGA 30APRIL2026 \n✅ Video on Demand – Revision Video khas untuk anda !\n📅 Tarikh : 1-30 April 2026\n⏰ Waktu: Fleksibel – ikut jadual anda sendiri! \n🎥 Akses rakaman kelas dan boleh ulang tayang sepuas hati! \nRakaman yang tersedia: semua video rakaman tuition untuk semua subjek ‼️ \n📌 Jangan lepaskan peluang! \n🔗 Daftar sekarang\, tempat terhad : https://shorturl.at/xvT8R \nDaftar sekarang & ulangkaji dengan lebih mudah 💪 \n 
URL:https://feldalinggiu.nadi.my/event/revision-video-on-demand-35-hingga-39/
LOCATION:NADI Felda Linggiu (Online)
END:VEVENT
BEGIN:VEVENT
DTSTART;TZID=UTC:20260420T090000
DTEND;TZID=UTC:20260424T180000
DTSTAMP:20260422T035700
CREATED:20260419T044511Z
LAST-MODIFIED:20260419T044511Z
UID:2278-1776675600-1777053600@feldalinggiu.nadi.my
SUMMARY:eSPORT - PODCAST EPISOD 16 : DARI LOKAL KE GLOBAL: MACAM MANA NAK TEMBUS DUNIA E-SPORTS KE ANTARABANGSA
DESCRIPTION:
URL:https://feldalinggiu.nadi.my/event/esport-podcast-episod-16-dari-lokal-ke-global-macam-mana-nak-tembus-dunia-e-sports-ke-antarabangsa/
LOCATION:NADI Felda Linggiu (Online)
END:VEVENT
BEGIN:VEVENT
DTSTART;TZID=UTC:20260420T090000
DTEND;TZID=UTC:20260425T180000
DTSTAMP:20260422T035700
CREATED:20260419T044326Z
LAST-MODIFIED:20260419T044326Z
UID:2275-1776675600-1777140000@feldalinggiu.nadi.my
SUMMARY:DILEA - ENGLISH PROFICIENCY LESSON 29
DESCRIPTION:
URL:https://feldalinggiu.nadi.my/event/dilea-english-proficiency-lesson-29/
LOCATION:NADI Felda Linggiu (Online)
END:VEVENT
BEGIN:VEVENT
DTSTART;TZID=UTC:20260422T111500
DTEND;TZID=UTC:20260422T120000
DTSTAMP:20260422T035700
CREATED:20260419T045046Z
LAST-MODIFIED:20260419T045046Z
UID:2291-1776856500-1776859200@feldalinggiu.nadi.my
SUMMARY:MAHIR - SHORT LEARNING JAHIT : POUCH BAG COMEL BERSAMA CIKGU WAWA
DESCRIPTION:
URL:https://feldalinggiu.nadi.my/event/mahir-short-learning-jahit-pouch-bag-comel-bersama-cikgu-wawa/
LOCATION:NADI Felda Linggiu (Online)
END:VEVENT
BEGIN:VEVENT
DTSTART;TZID=UTC:20260422T120500
DTEND;TZID=UTC:20260422T125000
DTSTAMP:20260422T035700
CREATED:20260419T045246Z
LAST-MODIFIED:20260419T045307Z
UID:2294-1776859500-1776862200@feldalinggiu.nadi.my
SUMMARY:MAHIR - SHORT LEARNING JAHIT : COASTER FABRIK HANDMADE BERSAMA CIKGU SUE
DESCRIPTION:
URL:https://feldalinggiu.nadi.my/event/mahir-short-learning-coaster-fabrik-handmade-bersama-cikgu-sue/
LOCATION:NADI Felda Linggiu (Online)
END:VEVENT
END:VCALENDAR