BEGIN:VCALENDAR
VERSION:2.0
PRODID:-//NADI Felda Linggiu - ECPv6.15.13.1//NONSGML v1.0//EN
CALSCALE:GREGORIAN
METHOD:PUBLISH
X-WR-CALNAME:NADI Felda Linggiu
X-ORIGINAL-URL:https://feldalinggiu.nadi.my
X-WR-CALDESC:Events for NADI Felda Linggiu
REFRESH-INTERVAL;VALUE=DURATION:PT1H
X-Robots-Tag:noindex
X-PUBLISHED-TTL:PT1H
BEGIN:VTIMEZONE
TZID:UTC
BEGIN:STANDARD
TZOFFSETFROM:+0000
TZOFFSETTO:+0000
TZNAME:UTC
DTSTART:20250101T000000
END:STANDARD
END:VTIMEZONE
BEGIN:VEVENT
DTSTART;TZID=UTC:20260421T100000
DTEND;TZID=UTC:20260421T110000
DTSTAMP:20260419T230950
CREATED:20260419T044829Z
LAST-MODIFIED:20260419T044829Z
UID:2288-1776765600-1776769200@feldalinggiu.nadi.my
SUMMARY:EKELAS USAHAWAN - MODUL 3: AI UNTUK MENCIPTA KANDUNGAN
DESCRIPTION:
URL:https://feldalinggiu.nadi.my/event/ekelas-usahawan-modul-3-ai-untuk-mencipta-kandungan/
LOCATION:NADI Felda Linggiu (Online)
END:VEVENT
BEGIN:VEVENT
DTSTART;TZID=UTC:20260422T111500
DTEND;TZID=UTC:20260422T120000
DTSTAMP:20260419T230950
CREATED:20260419T045046Z
LAST-MODIFIED:20260419T045046Z
UID:2291-1776856500-1776859200@feldalinggiu.nadi.my
SUMMARY:MAHIR - SHORT LEARNING JAHIT : POUCH BAG COMEL BERSAMA CIKGU WAWA
DESCRIPTION:
URL:https://feldalinggiu.nadi.my/event/mahir-short-learning-jahit-pouch-bag-comel-bersama-cikgu-wawa/
LOCATION:NADI Felda Linggiu (Online)
END:VEVENT
BEGIN:VEVENT
DTSTART;TZID=UTC:20260422T120500
DTEND;TZID=UTC:20260422T125000
DTSTAMP:20260419T230950
CREATED:20260419T045246Z
LAST-MODIFIED:20260419T045307Z
UID:2294-1776859500-1776862200@feldalinggiu.nadi.my
SUMMARY:MAHIR - SHORT LEARNING JAHIT : COASTER FABRIK HANDMADE BERSAMA CIKGU SUE
DESCRIPTION:
URL:https://feldalinggiu.nadi.my/event/mahir-short-learning-coaster-fabrik-handmade-bersama-cikgu-sue/
LOCATION:NADI Felda Linggiu (Online)
END:VEVENT
BEGIN:VEVENT
DTSTART;TZID=UTC:20260423T100000
DTEND;TZID=UTC:20260423T120000
DTSTAMP:20260419T230950
CREATED:20260419T045458Z
LAST-MODIFIED:20260419T045458Z
UID:2298-1776938400-1776945600@feldalinggiu.nadi.my
SUMMARY:NADIPRENEUR & EMPOWHER - LIVE WEBINAR (PERANCANGAN KEWANGAN)
DESCRIPTION:
URL:https://feldalinggiu.nadi.my/event/nadipreneur-empowher-live-webinar-perancangan-kewangan/
LOCATION:NADI Felda Linggiu (Online)
END:VEVENT
BEGIN:VEVENT
DTSTART;TZID=UTC:20260423T150000
DTEND;TZID=UTC:20260423T163000
DTSTAMP:20260419T230950
CREATED:20260419T045627Z
LAST-MODIFIED:20260419T045627Z
UID:2301-1776956400-1776961800@feldalinggiu.nadi.my
SUMMARY:CYBERSECURITY - BAGAIMANA AKAUN SOCIAL MEDIA ANDA BOLEH DIGODAM!
DESCRIPTION:
URL:https://feldalinggiu.nadi.my/event/cybersecurity-bagaimana-akaun-social-media-anda-boleh-digodam/
LOCATION:NADI Felda Linggiu (Online)
END:VEVENT
BEGIN:VEVENT
DTSTART;TZID=UTC:20260425T100000
DTEND;TZID=UTC:20260425T113000
DTSTAMP:20260419T230950
CREATED:20260419T045733Z
LAST-MODIFIED:20260419T045733Z
UID:2304-1777111200-1777116600@feldalinggiu.nadi.my
SUMMARY:KIDVENTURE - WEBINAR ONLINE: PEMASARAN 2
DESCRIPTION:
URL:https://feldalinggiu.nadi.my/event/kidventure-webinar-online-pemasaran-2/
LOCATION:NADI Felda Linggiu (Online)
END:VEVENT
END:VCALENDAR