BEGIN:VCALENDAR
VERSION:2.0
PRODID:-//NADI Felda Linggiu - ECPv6.15.13.1//NONSGML v1.0//EN
CALSCALE:GREGORIAN
METHOD:PUBLISH
X-WR-CALNAME:NADI Felda Linggiu
X-ORIGINAL-URL:https://feldalinggiu.nadi.my
X-WR-CALDESC:Events for NADI Felda Linggiu
REFRESH-INTERVAL;VALUE=DURATION:PT1H
X-Robots-Tag:noindex
X-PUBLISHED-TTL:PT1H
BEGIN:VTIMEZONE
TZID:UTC
BEGIN:STANDARD
TZOFFSETFROM:+0000
TZOFFSETTO:+0000
TZNAME:UTC
DTSTART:20220101T000000
END:STANDARD
END:VTIMEZONE
BEGIN:VEVENT
DTSTART;TZID=UTC:20231115T110000
DTEND;TZID=UTC:20231115T120000
DTSTAMP:20260421T044707
CREATED:20231114T152530Z
LAST-MODIFIED:20231114T152530Z
UID:1227-1700046000-1700049600@feldalinggiu.nadi.my
SUMMARY:Soft Skill : Learning Basic Public Greetings Bersama Pusat Literasi Felda Linggiu
DESCRIPTION:
URL:https://feldalinggiu.nadi.my/event/soft-skill-learning-basic-public-greetings-bersama-pusat-literasi-felda-linggiu/
LOCATION:PEDi Felda Linggiu\, PEDi Felda Linggiu
CATEGORIES:DEFAULT
END:VEVENT
BEGIN:VEVENT
DTSTART;TZID=UTC:20231115T100000
DTEND;TZID=UTC:20231115T110000
DTSTAMP:20260421T044707
CREATED:20231114T152430Z
LAST-MODIFIED:20231114T152430Z
UID:1356-1700042400-1700046000@feldalinggiu.nadi.my
SUMMARY:STEM IoT : Kapal Selam DIY Bersama Pusat Literasi Felda Linggiu
DESCRIPTION:
URL:https://feldalinggiu.nadi.my/event/stem-iot-kapal-selam-diy-bersama-pusat-literasi-felda-linggiu-2/
LOCATION:PEDi Felda Linggiu\, PEDi Felda Linggiu
CATEGORIES:DEFAULT
END:VEVENT
BEGIN:VEVENT
DTSTART;TZID=UTC:20231115T100000
DTEND;TZID=UTC:20231115T110000
DTSTAMP:20260421T044707
CREATED:20231114T152430Z
LAST-MODIFIED:20231114T152430Z
UID:1226-1700042400-1700046000@feldalinggiu.nadi.my
SUMMARY:STEM IoT : Kapal Selam DIY Bersama Pusat Literasi Felda Linggiu
DESCRIPTION:
URL:https://feldalinggiu.nadi.my/event/stem-iot-kapal-selam-diy-bersama-pusat-literasi-felda-linggiu/
LOCATION:PEDi Felda Linggiu\, PEDi Felda Linggiu
CATEGORIES:DEFAULT
END:VEVENT
BEGIN:VEVENT
DTSTART;TZID=UTC:20231115T090000
DTEND;TZID=UTC:20231115T100000
DTSTAMP:20260421T044707
CREATED:20231114T152303Z
LAST-MODIFIED:20231114T152303Z
UID:1225-1700038800-1700042400@feldalinggiu.nadi.my
SUMMARY:STEM IoT : Science Tricks Using Electrostatic Bersama Pusat Literasi Felda Linggiu
DESCRIPTION:
URL:https://feldalinggiu.nadi.my/event/stem-iot-science-tricks-using-electrostatic-bersama-pusat-literasi-felda-linggiu/
LOCATION:PEDi Felda Linggiu\, PEDi Felda Linggiu
CATEGORIES:DEFAULT
END:VEVENT
BEGIN:VEVENT
DTSTART;TZID=UTC:20231115T090000
DTEND;TZID=UTC:20231115T100000
DTSTAMP:20260421T044707
CREATED:20231114T152303Z
LAST-MODIFIED:20231114T152303Z
UID:1355-1700038800-1700042400@feldalinggiu.nadi.my
SUMMARY:STEM IoT : Science Tricks Using Electrostatic Bersama Pusat Literasi Felda Linggiu
DESCRIPTION:
URL:https://feldalinggiu.nadi.my/event/stem-iot-science-tricks-using-electrostatic-bersama-pusat-literasi-felda-linggiu-2/
LOCATION:PEDi Felda Linggiu\, PEDi Felda Linggiu
CATEGORIES:DEFAULT
END:VEVENT
BEGIN:VEVENT
DTSTART;TZID=UTC:20231112T073000
DTEND;TZID=UTC:20231112T235959
DTSTAMP:20260421T044707
CREATED:20231102T123739Z
LAST-MODIFIED:20231102T123739Z
UID:1346-1699774200-1699833599@feldalinggiu.nadi.my
SUMMARY:Advokasi : Majlis Sambutan Maulidur Rasul Peringkat Kampung Felda Linggiu 2023
DESCRIPTION:
URL:https://feldalinggiu.nadi.my/event/advokasi-majlis-sambutan-maulidur-rasul-peringkat-kampung-felda-linggiu-2023-2/
LOCATION:Masjid Jamek Felda Linggiu\, Masjid Jamek Felda Linggiu
CATEGORIES:DEFAULT
END:VEVENT
BEGIN:VEVENT
DTSTART;TZID=UTC:20231112T073000
DTEND;TZID=UTC:20231112T235959
DTSTAMP:20260421T044707
CREATED:20231102T123739Z
LAST-MODIFIED:20231102T123739Z
UID:1216-1699774200-1699833599@feldalinggiu.nadi.my
SUMMARY:Advokasi : Majlis Sambutan Maulidur Rasul Peringkat Kampung Felda Linggiu 2023
DESCRIPTION:
URL:https://feldalinggiu.nadi.my/event/advokasi-majlis-sambutan-maulidur-rasul-peringkat-kampung-felda-linggiu-2023/
LOCATION:Masjid Jamek Felda Linggiu\, Masjid Jamek Felda Linggiu
CATEGORIES:DEFAULT
END:VEVENT
BEGIN:VEVENT
DTSTART;TZID=UTC:20231111T150000
DTEND;TZID=UTC:20231111T173000
DTSTAMP:20260421T044707
CREATED:20231110T104022Z
LAST-MODIFIED:20231110T104022Z
UID:1224-1699714800-1699723800@feldalinggiu.nadi.my
SUMMARY:ICT : Tutorial Buat Dokumen Sebut Harga Untuk Syarikat
DESCRIPTION:
URL:https://feldalinggiu.nadi.my/event/ict-tutorial-buat-dokumen-sebut-harga-untuk-syarikat-2/
LOCATION:PEDi Felda Linggiu\, PEDi Felda Linggiu
CATEGORIES:DEFAULT
END:VEVENT
BEGIN:VEVENT
DTSTART;TZID=UTC:20231111T150000
DTEND;TZID=UTC:20231111T173000
DTSTAMP:20260421T044707
CREATED:20231110T104022Z
LAST-MODIFIED:20231110T104022Z
UID:1354-1699714800-1699723800@feldalinggiu.nadi.my
SUMMARY:ICT : Tutorial Buat Dokumen Sebut Harga Untuk Syarikat
DESCRIPTION:
URL:https://feldalinggiu.nadi.my/event/ict-tutorial-buat-dokumen-sebut-harga-untuk-syarikat-4/
LOCATION:PEDi Felda Linggiu\, PEDi Felda Linggiu
CATEGORIES:DEFAULT
END:VEVENT
BEGIN:VEVENT
DTSTART;TZID=UTC:20231111T093000
DTEND;TZID=UTC:20231111T120000
DTSTAMP:20260421T044707
CREATED:20231110T103933Z
LAST-MODIFIED:20231110T103933Z
UID:1353-1699695000-1699704000@feldalinggiu.nadi.my
SUMMARY:Usahawan : Kelas Tiktok Affiliate
DESCRIPTION:
URL:https://feldalinggiu.nadi.my/event/usahawan-kelas-tiktok-affiliate-3/
LOCATION:PEDi Felda Linggiu\, PEDi Felda Linggiu
CATEGORIES:DEFAULT
END:VEVENT
BEGIN:VEVENT
DTSTART;TZID=UTC:20231111T093000
DTEND;TZID=UTC:20231111T120000
DTSTAMP:20260421T044707
CREATED:20231110T103933Z
LAST-MODIFIED:20231110T103933Z
UID:1223-1699695000-1699704000@feldalinggiu.nadi.my
SUMMARY:Usahawan : Kelas Tiktok Affiliate
DESCRIPTION:
URL:https://feldalinggiu.nadi.my/event/usahawan-kelas-tiktok-affiliate/
LOCATION:PEDi Felda Linggiu\, PEDi Felda Linggiu
CATEGORIES:DEFAULT
END:VEVENT
BEGIN:VEVENT
DTSTART;TZID=UTC:20231110T143000
DTEND;TZID=UTC:20231110T163000
DTSTAMP:20260421T044707
CREATED:20231110T100020Z
LAST-MODIFIED:20231110T100020Z
UID:1352-1699626600-1699633800@feldalinggiu.nadi.my
SUMMARY:STEM IoT : STEM Word Search
DESCRIPTION:
URL:https://feldalinggiu.nadi.my/event/stem-iot-stem-word-search-5/
LOCATION:PEDi Felda Linggiu\, PEDi Felda Linggiu
CATEGORIES:DEFAULT
END:VEVENT
BEGIN:VEVENT
DTSTART;TZID=UTC:20231110T143000
DTEND;TZID=UTC:20231110T163000
DTSTAMP:20260421T044707
CREATED:20231110T100020Z
LAST-MODIFIED:20231110T100020Z
UID:1222-1699626600-1699633800@feldalinggiu.nadi.my
SUMMARY:STEM IoT : STEM Word Search
DESCRIPTION:
URL:https://feldalinggiu.nadi.my/event/stem-iot-stem-word-search-2/
LOCATION:PEDi Felda Linggiu\, PEDi Felda Linggiu
CATEGORIES:DEFAULT
END:VEVENT
BEGIN:VEVENT
DTSTART;TZID=UTC:20231110T093000
DTEND;TZID=UTC:20231110T123000
DTSTAMP:20260421T044707
CREATED:20231109T150300Z
LAST-MODIFIED:20231109T150300Z
UID:1220-1699608600-1699619400@feldalinggiu.nadi.my
SUMMARY:ICT : Modul Nilam Johor
DESCRIPTION:
URL:https://feldalinggiu.nadi.my/event/ict-modul-nilam-johor-2/
LOCATION:PEDi Felda Linggiu (Online)\, PEDi Felda Linggiu (Online)
CATEGORIES:DEFAULT
END:VEVENT
BEGIN:VEVENT
DTSTART;TZID=UTC:20231110T093000
DTEND;TZID=UTC:20231110T123000
DTSTAMP:20260421T044707
CREATED:20231109T150300Z
LAST-MODIFIED:20231109T150300Z
UID:1350-1699608600-1699619400@feldalinggiu.nadi.my
SUMMARY:ICT : Modul Nilam Johor
DESCRIPTION:
URL:https://feldalinggiu.nadi.my/event/ict-modul-nilam-johor-4/
LOCATION:PEDi Felda Linggiu (Online)\, PEDi Felda Linggiu (Online)
CATEGORIES:DEFAULT
END:VEVENT
BEGIN:VEVENT
DTSTART;TZID=UTC:20231109T143000
DTEND;TZID=UTC:20231109T163000
DTSTAMP:20260421T044707
CREATED:20231109T143412Z
LAST-MODIFIED:20231109T143412Z
UID:1219-1699540200-1699547400@feldalinggiu.nadi.my
SUMMARY:ICT : Kelas Tutorial Membuat Letterhead Surat
DESCRIPTION:
URL:https://feldalinggiu.nadi.my/event/ict-kelas-tutorial-membuat-letterhead-surat/
LOCATION:PEDi Felda Linggiu\, PEDi Felda Linggiu
CATEGORIES:DEFAULT
END:VEVENT
BEGIN:VEVENT
DTSTART;TZID=UTC:20231109T143000
DTEND;TZID=UTC:20231109T163000
DTSTAMP:20260421T044707
CREATED:20231109T143412Z
LAST-MODIFIED:20231109T143412Z
UID:1349-1699540200-1699547400@feldalinggiu.nadi.my
SUMMARY:ICT : Kelas Tutorial Membuat Letterhead Surat
DESCRIPTION:
URL:https://feldalinggiu.nadi.my/event/ict-kelas-tutorial-membuat-letterhead-surat-2/
LOCATION:PEDi Felda Linggiu\, PEDi Felda Linggiu
CATEGORIES:DEFAULT
END:VEVENT
BEGIN:VEVENT
DTSTART;TZID=UTC:20231104T110000
DTEND;TZID=UTC:20231104T130000
DTSTAMP:20260421T044707
CREATED:20231101T181509Z
LAST-MODIFIED:20231101T181509Z
UID:1212-1699095600-1699102800@feldalinggiu.nadi.my
SUMMARY:Usahawan : Marketing Class Ohsem Sale
DESCRIPTION:
URL:https://feldalinggiu.nadi.my/event/usahawan-marketing-class-ohsem-sale/
LOCATION:ONLINE\, ONLINE
CATEGORIES:DEFAULT
ATTACH;FMTTYPE=image/jpeg:https://feldalinggiu.nadi.my/wp-content/uploads/2023/11/photo1698735750.jpeg
END:VEVENT
BEGIN:VEVENT
DTSTART;TZID=UTC:20231104T110000
DTEND;TZID=UTC:20231104T130000
DTSTAMP:20260421T044707
CREATED:20231101T181509Z
LAST-MODIFIED:20231101T181509Z
UID:1344-1699095600-1699102800@feldalinggiu.nadi.my
SUMMARY:Usahawan : Marketing Class Ohsem Sale
DESCRIPTION:
URL:https://feldalinggiu.nadi.my/event/usahawan-marketing-class-ohsem-sale-2/
LOCATION:ONLINE\, ONLINE
CATEGORIES:DEFAULT
ATTACH;FMTTYPE=image/jpeg:https://feldalinggiu.nadi.my/wp-content/uploads/2023/11/photo1698735750.jpeg
END:VEVENT
BEGIN:VEVENT
DTSTART;TZID=UTC:20231103T113000
DTEND;TZID=UTC:20231103T130000
DTSTAMP:20260421T044707
CREATED:20231108T112242Z
LAST-MODIFIED:20231108T112242Z
UID:1348-1699011000-1699016400@feldalinggiu.nadi.my
SUMMARY:Soft Skill : Critical Thinking
DESCRIPTION:
URL:https://feldalinggiu.nadi.my/event/soft-skill-critical-thinking-2/
LOCATION:PEDi Felda Linggiu\, PEDi Felda Linggiu
CATEGORIES:DEFAULT
END:VEVENT
BEGIN:VEVENT
DTSTART;TZID=UTC:20231103T113000
DTEND;TZID=UTC:20231103T130000
DTSTAMP:20260421T044707
CREATED:20231108T112242Z
LAST-MODIFIED:20231108T112242Z
UID:1218-1699011000-1699016400@feldalinggiu.nadi.my
SUMMARY:Soft Skill : Critical Thinking
DESCRIPTION:
URL:https://feldalinggiu.nadi.my/event/soft-skill-critical-thinking/
LOCATION:PEDi Felda Linggiu\, PEDi Felda Linggiu
CATEGORIES:DEFAULT
END:VEVENT
BEGIN:VEVENT
DTSTART;TZID=UTC:20231103T090000
DTEND;TZID=UTC:20231103T113000
DTSTAMP:20260421T044707
CREATED:20231108T112206Z
LAST-MODIFIED:20231108T112206Z
UID:1347-1699002000-1699011000@feldalinggiu.nadi.my
SUMMARY:e-Learning : Ulangkaji Pelajaran Subjek
DESCRIPTION:
URL:https://feldalinggiu.nadi.my/event/e-learning-ulangkaji-pelajaran-subjek-2/
LOCATION:PEDi Felda Linggiu\, PEDi Felda Linggiu
CATEGORIES:DEFAULT
END:VEVENT
BEGIN:VEVENT
DTSTART;TZID=UTC:20231103T090000
DTEND;TZID=UTC:20231103T113000
DTSTAMP:20260421T044707
CREATED:20231108T112206Z
LAST-MODIFIED:20231108T112206Z
UID:1217-1699002000-1699011000@feldalinggiu.nadi.my
SUMMARY:e-Learning : Ulangkaji Pelajaran Subjek
DESCRIPTION:
URL:https://feldalinggiu.nadi.my/event/e-learning-ulangkaji-pelajaran-subjek/
LOCATION:PEDi Felda Linggiu\, PEDi Felda Linggiu
CATEGORIES:DEFAULT
END:VEVENT
BEGIN:VEVENT
DTSTART;TZID=UTC:20231102T150000
DTEND;TZID=UTC:20231102T173000
DTSTAMP:20260421T044707
CREATED:20231110T095915Z
LAST-MODIFIED:20231110T095915Z
UID:1351-1698937200-1698946200@feldalinggiu.nadi.my
SUMMARY:ICT : Tutorial Buat Dokumen Sebut Harga Untuk Syarikat
DESCRIPTION:
URL:https://feldalinggiu.nadi.my/event/ict-tutorial-buat-dokumen-sebut-harga-untuk-syarikat-3/
LOCATION:PEDi Felda Linggiu\, PEDi Felda Linggiu
CATEGORIES:DEFAULT
END:VEVENT
BEGIN:VEVENT
DTSTART;TZID=UTC:20231102T150000
DTEND;TZID=UTC:20231102T173000
DTSTAMP:20260421T044707
CREATED:20231110T095915Z
LAST-MODIFIED:20231110T095915Z
UID:1221-1698937200-1698946200@feldalinggiu.nadi.my
SUMMARY:ICT : Tutorial Buat Dokumen Sebut Harga Untuk Syarikat
DESCRIPTION:
URL:https://feldalinggiu.nadi.my/event/ict-tutorial-buat-dokumen-sebut-harga-untuk-syarikat/
LOCATION:PEDi Felda Linggiu\, PEDi Felda Linggiu
CATEGORIES:DEFAULT
END:VEVENT
BEGIN:VEVENT
DTSTART;TZID=UTC:20231102T100000
DTEND;TZID=UTC:20231107T235959
DTSTAMP:20260421T044707
CREATED:20231102T101309Z
LAST-MODIFIED:20231102T101309Z
UID:1214-1698919200-1699401599@feldalinggiu.nadi.my
SUMMARY:ICT : Kuiz Maulidur Rasul PEDi 2023
DESCRIPTION:
URL:https://feldalinggiu.nadi.my/event/ict-kuiz-maulidur-rasul-pedi-2023/
LOCATION:PEDi Felda Linggiu (Online)\, PEDi Felda Linggiu (Online)
CATEGORIES:DEFAULT
ATTACH;FMTTYPE=image/png:https://feldalinggiu.nadi.my/wp-content/uploads/2023/11/Kuiz-Maulidur-Rasul-PEDi-2.png
END:VEVENT
BEGIN:VEVENT
DTSTART;TZID=UTC:20231102T100000
DTEND;TZID=UTC:20231107T235959
DTSTAMP:20260421T044707
CREATED:20231102T101309Z
LAST-MODIFIED:20231102T101309Z
UID:1345-1698919200-1699401599@feldalinggiu.nadi.my
SUMMARY:ICT : Kuiz Maulidur Rasul PEDi 2023
DESCRIPTION:
URL:https://feldalinggiu.nadi.my/event/ict-kuiz-maulidur-rasul-pedi-2023-2/
LOCATION:PEDi Felda Linggiu (Online)\, PEDi Felda Linggiu (Online)
CATEGORIES:DEFAULT
ATTACH;FMTTYPE=image/png:https://feldalinggiu.nadi.my/wp-content/uploads/2023/11/Kuiz-Maulidur-Rasul-PEDi-2.png
END:VEVENT
BEGIN:VEVENT
DTSTART;TZID=UTC:20231024T120000
DTEND;TZID=UTC:20231024T130000
DTSTAMP:20260421T044707
CREATED:20231014T142454Z
LAST-MODIFIED:20231014T142454Z
UID:1341-1698148800-1698152400@feldalinggiu.nadi.my
SUMMARY:STEM IoT : Color Mix & Match Bersama Pusat Literasi Felda Linggiu
DESCRIPTION:
URL:https://feldalinggiu.nadi.my/event/stem-iot-color-mix-match-bersama-pusat-literasi-felda-linggiu-2/
LOCATION:PEDi Felda Linggiu\, PEDi Felda Linggiu
CATEGORIES:DEFAULT
END:VEVENT
BEGIN:VEVENT
DTSTART;TZID=UTC:20231024T120000
DTEND;TZID=UTC:20231024T130000
DTSTAMP:20260421T044707
CREATED:20231014T142454Z
LAST-MODIFIED:20231014T142454Z
UID:1207-1698148800-1698152400@feldalinggiu.nadi.my
SUMMARY:STEM IoT : Color Mix & Match Bersama Pusat Literasi Felda Linggiu
DESCRIPTION:
URL:https://feldalinggiu.nadi.my/event/stem-iot-color-mix-match-bersama-pusat-literasi-felda-linggiu/
LOCATION:PEDi Felda Linggiu\, PEDi Felda Linggiu
CATEGORIES:DEFAULT
END:VEVENT
BEGIN:VEVENT
DTSTART;TZID=UTC:20231024T110000
DTEND;TZID=UTC:20231024T120000
DTSTAMP:20260421T044707
CREATED:20231014T142342Z
LAST-MODIFIED:20231014T142342Z
UID:1340-1698145200-1698148800@feldalinggiu.nadi.my
SUMMARY:Soft Skill : Meningkatkan Kemahiran Motor Halus Bersama Pusat Literasi Felda Linggiu
DESCRIPTION:
URL:https://feldalinggiu.nadi.my/event/soft-skill-meningkatkan-kemahiran-motor-halus-bersama-pusat-literasi-felda-linggiu-2/
LOCATION:PEDi Felda Linggiu\, PEDi Felda Linggiu
CATEGORIES:DEFAULT
END:VEVENT
END:VCALENDAR