BEGIN:VCALENDAR
VERSION:2.0
PRODID:-//NADI Felda Linggiu - ECPv6.15.13.1//NONSGML v1.0//EN
CALSCALE:GREGORIAN
METHOD:PUBLISH
X-WR-CALNAME:NADI Felda Linggiu
X-ORIGINAL-URL:https://feldalinggiu.nadi.my
X-WR-CALDESC:Events for NADI Felda Linggiu
REFRESH-INTERVAL;VALUE=DURATION:PT1H
X-Robots-Tag:noindex
X-PUBLISHED-TTL:PT1H
BEGIN:VTIMEZONE
TZID:UTC
BEGIN:STANDARD
TZOFFSETFROM:+0000
TZOFFSETTO:+0000
TZNAME:UTC
DTSTART:20220101T000000
END:STANDARD
END:VTIMEZONE
BEGIN:VEVENT
DTSTART;TZID=UTC:20231103T113000
DTEND;TZID=UTC:20231103T130000
DTSTAMP:20260422T061557
CREATED:20231108T112242Z
LAST-MODIFIED:20231108T112242Z
UID:1348-1699011000-1699016400@feldalinggiu.nadi.my
SUMMARY:Soft Skill : Critical Thinking
DESCRIPTION:
URL:https://feldalinggiu.nadi.my/event/soft-skill-critical-thinking-2/
LOCATION:PEDi Felda Linggiu\, PEDi Felda Linggiu
CATEGORIES:DEFAULT
END:VEVENT
BEGIN:VEVENT
DTSTART;TZID=UTC:20231103T113000
DTEND;TZID=UTC:20231103T130000
DTSTAMP:20260422T061557
CREATED:20231108T112242Z
LAST-MODIFIED:20231108T112242Z
UID:1218-1699011000-1699016400@feldalinggiu.nadi.my
SUMMARY:Soft Skill : Critical Thinking
DESCRIPTION:
URL:https://feldalinggiu.nadi.my/event/soft-skill-critical-thinking/
LOCATION:PEDi Felda Linggiu\, PEDi Felda Linggiu
CATEGORIES:DEFAULT
END:VEVENT
BEGIN:VEVENT
DTSTART;TZID=UTC:20231103T090000
DTEND;TZID=UTC:20231103T113000
DTSTAMP:20260422T061557
CREATED:20231108T112206Z
LAST-MODIFIED:20231108T112206Z
UID:1347-1699002000-1699011000@feldalinggiu.nadi.my
SUMMARY:e-Learning : Ulangkaji Pelajaran Subjek
DESCRIPTION:
URL:https://feldalinggiu.nadi.my/event/e-learning-ulangkaji-pelajaran-subjek-2/
LOCATION:PEDi Felda Linggiu\, PEDi Felda Linggiu
CATEGORIES:DEFAULT
END:VEVENT
BEGIN:VEVENT
DTSTART;TZID=UTC:20231103T090000
DTEND;TZID=UTC:20231103T113000
DTSTAMP:20260422T061557
CREATED:20231108T112206Z
LAST-MODIFIED:20231108T112206Z
UID:1217-1699002000-1699011000@feldalinggiu.nadi.my
SUMMARY:e-Learning : Ulangkaji Pelajaran Subjek
DESCRIPTION:
URL:https://feldalinggiu.nadi.my/event/e-learning-ulangkaji-pelajaran-subjek/
LOCATION:PEDi Felda Linggiu\, PEDi Felda Linggiu
CATEGORIES:DEFAULT
END:VEVENT
BEGIN:VEVENT
DTSTART;TZID=UTC:20231102T150000
DTEND;TZID=UTC:20231102T173000
DTSTAMP:20260422T061557
CREATED:20231110T095915Z
LAST-MODIFIED:20231110T095915Z
UID:1351-1698937200-1698946200@feldalinggiu.nadi.my
SUMMARY:ICT : Tutorial Buat Dokumen Sebut Harga Untuk Syarikat
DESCRIPTION:
URL:https://feldalinggiu.nadi.my/event/ict-tutorial-buat-dokumen-sebut-harga-untuk-syarikat-3/
LOCATION:PEDi Felda Linggiu\, PEDi Felda Linggiu
CATEGORIES:DEFAULT
END:VEVENT
BEGIN:VEVENT
DTSTART;TZID=UTC:20231102T150000
DTEND;TZID=UTC:20231102T173000
DTSTAMP:20260422T061557
CREATED:20231110T095915Z
LAST-MODIFIED:20231110T095915Z
UID:1221-1698937200-1698946200@feldalinggiu.nadi.my
SUMMARY:ICT : Tutorial Buat Dokumen Sebut Harga Untuk Syarikat
DESCRIPTION:
URL:https://feldalinggiu.nadi.my/event/ict-tutorial-buat-dokumen-sebut-harga-untuk-syarikat/
LOCATION:PEDi Felda Linggiu\, PEDi Felda Linggiu
CATEGORIES:DEFAULT
END:VEVENT
BEGIN:VEVENT
DTSTART;TZID=UTC:20231102T100000
DTEND;TZID=UTC:20231107T235959
DTSTAMP:20260422T061557
CREATED:20231102T101309Z
LAST-MODIFIED:20231102T101309Z
UID:1214-1698919200-1699401599@feldalinggiu.nadi.my
SUMMARY:ICT : Kuiz Maulidur Rasul PEDi 2023
DESCRIPTION:
URL:https://feldalinggiu.nadi.my/event/ict-kuiz-maulidur-rasul-pedi-2023/
LOCATION:PEDi Felda Linggiu (Online)\, PEDi Felda Linggiu (Online)
CATEGORIES:DEFAULT
ATTACH;FMTTYPE=image/png:https://feldalinggiu.nadi.my/wp-content/uploads/2023/11/Kuiz-Maulidur-Rasul-PEDi-2.png
END:VEVENT
BEGIN:VEVENT
DTSTART;TZID=UTC:20231102T100000
DTEND;TZID=UTC:20231107T235959
DTSTAMP:20260422T061557
CREATED:20231102T101309Z
LAST-MODIFIED:20231102T101309Z
UID:1345-1698919200-1699401599@feldalinggiu.nadi.my
SUMMARY:ICT : Kuiz Maulidur Rasul PEDi 2023
DESCRIPTION:
URL:https://feldalinggiu.nadi.my/event/ict-kuiz-maulidur-rasul-pedi-2023-2/
LOCATION:PEDi Felda Linggiu (Online)\, PEDi Felda Linggiu (Online)
CATEGORIES:DEFAULT
ATTACH;FMTTYPE=image/png:https://feldalinggiu.nadi.my/wp-content/uploads/2023/11/Kuiz-Maulidur-Rasul-PEDi-2.png
END:VEVENT
BEGIN:VEVENT
DTSTART;TZID=UTC:20231024T120000
DTEND;TZID=UTC:20231024T130000
DTSTAMP:20260422T061557
CREATED:20231014T142454Z
LAST-MODIFIED:20231014T142454Z
UID:1341-1698148800-1698152400@feldalinggiu.nadi.my
SUMMARY:STEM IoT : Color Mix & Match Bersama Pusat Literasi Felda Linggiu
DESCRIPTION:
URL:https://feldalinggiu.nadi.my/event/stem-iot-color-mix-match-bersama-pusat-literasi-felda-linggiu-2/
LOCATION:PEDi Felda Linggiu\, PEDi Felda Linggiu
CATEGORIES:DEFAULT
END:VEVENT
BEGIN:VEVENT
DTSTART;TZID=UTC:20231024T120000
DTEND;TZID=UTC:20231024T130000
DTSTAMP:20260422T061557
CREATED:20231014T142454Z
LAST-MODIFIED:20231014T142454Z
UID:1207-1698148800-1698152400@feldalinggiu.nadi.my
SUMMARY:STEM IoT : Color Mix & Match Bersama Pusat Literasi Felda Linggiu
DESCRIPTION:
URL:https://feldalinggiu.nadi.my/event/stem-iot-color-mix-match-bersama-pusat-literasi-felda-linggiu/
LOCATION:PEDi Felda Linggiu\, PEDi Felda Linggiu
CATEGORIES:DEFAULT
END:VEVENT
BEGIN:VEVENT
DTSTART;TZID=UTC:20231024T110000
DTEND;TZID=UTC:20231024T120000
DTSTAMP:20260422T061557
CREATED:20231014T142342Z
LAST-MODIFIED:20231014T142342Z
UID:1340-1698145200-1698148800@feldalinggiu.nadi.my
SUMMARY:Soft Skill : Meningkatkan Kemahiran Motor Halus Bersama Pusat Literasi Felda Linggiu
DESCRIPTION:
URL:https://feldalinggiu.nadi.my/event/soft-skill-meningkatkan-kemahiran-motor-halus-bersama-pusat-literasi-felda-linggiu-2/
LOCATION:PEDi Felda Linggiu\, PEDi Felda Linggiu
CATEGORIES:DEFAULT
END:VEVENT
BEGIN:VEVENT
DTSTART;TZID=UTC:20231024T110000
DTEND;TZID=UTC:20231024T120000
DTSTAMP:20260422T061557
CREATED:20231014T142342Z
LAST-MODIFIED:20231014T142342Z
UID:1206-1698145200-1698148800@feldalinggiu.nadi.my
SUMMARY:Soft Skill : Meningkatkan Kemahiran Motor Halus Bersama Pusat Literasi Felda Linggiu
DESCRIPTION:
URL:https://feldalinggiu.nadi.my/event/soft-skill-meningkatkan-kemahiran-motor-halus-bersama-pusat-literasi-felda-linggiu/
LOCATION:PEDi Felda Linggiu\, PEDi Felda Linggiu
CATEGORIES:DEFAULT
END:VEVENT
BEGIN:VEVENT
DTSTART;TZID=UTC:20231024T100000
DTEND;TZID=UTC:20231024T110000
DTSTAMP:20260422T061557
CREATED:20231014T142255Z
LAST-MODIFIED:20231014T142255Z
UID:1339-1698141600-1698145200@feldalinggiu.nadi.my
SUMMARY:Soft Skill : Latihan Kemahiran Koordinasi Mata Dan Tangan Bersama Pusat Literasi Felda Linggiu
DESCRIPTION:
URL:https://feldalinggiu.nadi.my/event/soft-skill-latihan-kemahiran-koordinasi-mata-dan-tangan-bersama-pusat-literasi-felda-linggiu-2/
LOCATION:PEDi Felda Linggiu\, PEDi Felda Linggiu
CATEGORIES:DEFAULT
END:VEVENT
BEGIN:VEVENT
DTSTART;TZID=UTC:20231024T100000
DTEND;TZID=UTC:20231024T110000
DTSTAMP:20260422T061557
CREATED:20231014T142255Z
LAST-MODIFIED:20231014T142255Z
UID:1205-1698141600-1698145200@feldalinggiu.nadi.my
SUMMARY:Soft Skill : Latihan Kemahiran Koordinasi Mata Dan Tangan Bersama Pusat Literasi Felda Linggiu
DESCRIPTION:
URL:https://feldalinggiu.nadi.my/event/soft-skill-latihan-kemahiran-koordinasi-mata-dan-tangan-bersama-pusat-literasi-felda-linggiu/
LOCATION:PEDi Felda Linggiu\, PEDi Felda Linggiu
CATEGORIES:DEFAULT
END:VEVENT
BEGIN:VEVENT
DTSTART;TZID=UTC:20231024T090000
DTEND;TZID=UTC:20231024T100000
DTSTAMP:20260422T061557
CREATED:20231014T142210Z
LAST-MODIFIED:20231014T142210Z
UID:1204-1698138000-1698141600@feldalinggiu.nadi.my
SUMMARY:ICT : Kuiz ICT (Teka-Teki Bergambar) Bersama Pusat Literasi Felda Linggiu
DESCRIPTION:
URL:https://feldalinggiu.nadi.my/event/ict-kuiz-ict-teka-teki-bergambar-bersama-pusat-literasi-felda-linggiu/
LOCATION:PEDi Felda Linggiu\, PEDi Felda Linggiu
CATEGORIES:DEFAULT
END:VEVENT
BEGIN:VEVENT
DTSTART;TZID=UTC:20231024T090000
DTEND;TZID=UTC:20231024T100000
DTSTAMP:20260422T061557
CREATED:20231014T142210Z
LAST-MODIFIED:20231014T142210Z
UID:1338-1698138000-1698141600@feldalinggiu.nadi.my
SUMMARY:ICT : Kuiz ICT (Teka-Teki Bergambar) Bersama Pusat Literasi Felda Linggiu
DESCRIPTION:
URL:https://feldalinggiu.nadi.my/event/ict-kuiz-ict-teka-teki-bergambar-bersama-pusat-literasi-felda-linggiu-2/
LOCATION:PEDi Felda Linggiu\, PEDi Felda Linggiu
CATEGORIES:DEFAULT
END:VEVENT
BEGIN:VEVENT
DTSTART;TZID=UTC:20231020T090000
DTEND;TZID=UTC:20231020T123000
DTSTAMP:20260422T061557
CREATED:20231020T104459Z
LAST-MODIFIED:20231020T104459Z
UID:1343-1697792400-1697805000@feldalinggiu.nadi.my
SUMMARY:STEM IoT : STEM Word Search
DESCRIPTION:
URL:https://feldalinggiu.nadi.my/event/stem-iot-stem-word-search-4/
LOCATION:PEDi Felda Linggiu\, PEDi Felda Linggiu
CATEGORIES:DEFAULT
END:VEVENT
BEGIN:VEVENT
DTSTART;TZID=UTC:20231020T090000
DTEND;TZID=UTC:20231020T123000
DTSTAMP:20260422T061557
CREATED:20231020T104459Z
LAST-MODIFIED:20231020T104459Z
UID:1210-1697792400-1697805000@feldalinggiu.nadi.my
SUMMARY:STEM IoT : STEM Word Search
DESCRIPTION:
URL:https://feldalinggiu.nadi.my/event/stem-iot-stem-word-search/
LOCATION:PEDi Felda Linggiu\, PEDi Felda Linggiu
CATEGORIES:DEFAULT
END:VEVENT
BEGIN:VEVENT
DTSTART;TZID=UTC:20231019T110000
DTEND;TZID=UTC:20231019T130000
DTSTAMP:20260422T061557
CREATED:20231014T142101Z
LAST-MODIFIED:20231014T142101Z
UID:1203-1697713200-1697720400@feldalinggiu.nadi.my
SUMMARY:STEM IoT : Projek Water Pump DIY Bersama Pelajar Pendidikan Khas SMK Felda Linggiu
DESCRIPTION:
URL:https://feldalinggiu.nadi.my/event/stem-iot-projek-water-pump-diy-bersama-pelajar-pendidikan-khas-smk-felda-linggiu/
LOCATION:PEDi Felda Linggiu\, PEDi Felda Linggiu
CATEGORIES:DEFAULT
END:VEVENT
BEGIN:VEVENT
DTSTART;TZID=UTC:20231019T110000
DTEND;TZID=UTC:20231019T130000
DTSTAMP:20260422T061557
CREATED:20231014T142101Z
LAST-MODIFIED:20231014T142101Z
UID:1337-1697713200-1697720400@feldalinggiu.nadi.my
SUMMARY:STEM IoT : Projek Water Pump DIY Bersama Pelajar Pendidikan Khas SMK Felda Linggiu
DESCRIPTION:
URL:https://feldalinggiu.nadi.my/event/stem-iot-projek-water-pump-diy-bersama-pelajar-pendidikan-khas-smk-felda-linggiu-2/
LOCATION:PEDi Felda Linggiu\, PEDi Felda Linggiu
CATEGORIES:DEFAULT
END:VEVENT
BEGIN:VEVENT
DTSTART;TZID=UTC:20231019T100000
DTEND;TZID=UTC:20231019T110000
DTSTAMP:20260422T061557
CREATED:20231014T141956Z
LAST-MODIFIED:20231014T141956Z
UID:1336-1697709600-1697713200@feldalinggiu.nadi.my
SUMMARY:Usahawan : Kelas Tiktok Affiliate Bersama Pelajar Pendidikan Khas SMK Felda Linggiu
DESCRIPTION:
URL:https://feldalinggiu.nadi.my/event/usahawan-kelas-tiktok-affiliate-bersama-pelajar-pendidikan-khas-smk-felda-linggiu-2/
LOCATION:PEDi Felda Linggiu\, PEDi Felda Linggiu
CATEGORIES:DEFAULT
END:VEVENT
BEGIN:VEVENT
DTSTART;TZID=UTC:20231019T100000
DTEND;TZID=UTC:20231019T110000
DTSTAMP:20260422T061557
CREATED:20231014T141956Z
LAST-MODIFIED:20231014T141956Z
UID:1202-1697709600-1697713200@feldalinggiu.nadi.my
SUMMARY:Usahawan : Kelas Tiktok Affiliate Bersama Pelajar Pendidikan Khas SMK Felda Linggiu
DESCRIPTION:
URL:https://feldalinggiu.nadi.my/event/usahawan-kelas-tiktok-affiliate-bersama-pelajar-pendidikan-khas-smk-felda-linggiu/
LOCATION:PEDi Felda Linggiu\, PEDi Felda Linggiu
CATEGORIES:DEFAULT
END:VEVENT
BEGIN:VEVENT
DTSTART;TZID=UTC:20231019T090000
DTEND;TZID=UTC:20231019T100000
DTSTAMP:20260422T061557
CREATED:20231014T141847Z
LAST-MODIFIED:20231014T141847Z
UID:1335-1697706000-1697709600@feldalinggiu.nadi.my
SUMMARY:ICT : Tutorial Slideshow Microsoft Powerpoint Bersama Pelajar Pendidikan Khas SMK Felda Linggiu
DESCRIPTION:
URL:https://feldalinggiu.nadi.my/event/ict-tutorial-slideshow-microsoft-powerpoint-bersama-pelajar-pendidikan-khas-smk-felda-linggiu-2/
LOCATION:PEDi Felda Linggiu\, PEDi Felda Linggiu
CATEGORIES:DEFAULT
END:VEVENT
BEGIN:VEVENT
DTSTART;TZID=UTC:20231019T090000
DTEND;TZID=UTC:20231019T100000
DTSTAMP:20260422T061557
CREATED:20231014T141847Z
LAST-MODIFIED:20231014T141847Z
UID:1201-1697706000-1697709600@feldalinggiu.nadi.my
SUMMARY:ICT : Tutorial Slideshow Microsoft Powerpoint Bersama Pelajar Pendidikan Khas SMK Felda Linggiu
DESCRIPTION:
URL:https://feldalinggiu.nadi.my/event/ict-tutorial-slideshow-microsoft-powerpoint-bersama-pelajar-pendidikan-khas-smk-felda-linggiu/
LOCATION:PEDi Felda Linggiu\, PEDi Felda Linggiu
CATEGORIES:DEFAULT
END:VEVENT
BEGIN:VEVENT
DTSTART;TZID=UTC:20231017T150000
DTEND;TZID=UTC:20231017T173000
DTSTAMP:20260422T061557
CREATED:20231014T141803Z
LAST-MODIFIED:20231014T141803Z
UID:1334-1697554800-1697563800@feldalinggiu.nadi.my
SUMMARY:ICT : Kelas Tutorial Lakaran Digital
DESCRIPTION:
URL:https://feldalinggiu.nadi.my/event/ict-kelas-tutorial-lakaran-digital-2/
LOCATION:PEDi Felda Linggiu\, PEDi Felda Linggiu
CATEGORIES:DEFAULT
END:VEVENT
BEGIN:VEVENT
DTSTART;TZID=UTC:20231017T150000
DTEND;TZID=UTC:20231017T173000
DTSTAMP:20260422T061557
CREATED:20231014T141803Z
LAST-MODIFIED:20231014T141803Z
UID:1200-1697554800-1697563800@feldalinggiu.nadi.my
SUMMARY:ICT : Kelas Tutorial Lakaran Digital
DESCRIPTION:
URL:https://feldalinggiu.nadi.my/event/ict-kelas-tutorial-lakaran-digital/
LOCATION:PEDi Felda Linggiu\, PEDi Felda Linggiu
CATEGORIES:DEFAULT
END:VEVENT
BEGIN:VEVENT
DTSTART;TZID=UTC:20231013T100000
DTEND;TZID=UTC:20231013T120000
DTSTAMP:20260422T061557
CREATED:20231014T141645Z
LAST-MODIFIED:20231014T141645Z
UID:1199-1697191200-1697198400@feldalinggiu.nadi.my
SUMMARY:ICT : Belajar Menaip Petikan Ringkas
DESCRIPTION:
URL:https://feldalinggiu.nadi.my/event/ict-belajar-menaip-petikan-ringkas/
LOCATION:PEDi Felda Linggiu\, PEDi Felda Linggiu
CATEGORIES:DEFAULT
END:VEVENT
BEGIN:VEVENT
DTSTART;TZID=UTC:20231013T100000
DTEND;TZID=UTC:20231013T120000
DTSTAMP:20260422T061557
CREATED:20231014T141645Z
LAST-MODIFIED:20231014T141645Z
UID:1333-1697191200-1697198400@feldalinggiu.nadi.my
SUMMARY:ICT : Belajar Menaip Petikan Ringkas
DESCRIPTION:
URL:https://feldalinggiu.nadi.my/event/ict-belajar-menaip-petikan-ringkas-2/
LOCATION:PEDi Felda Linggiu\, PEDi Felda Linggiu
CATEGORIES:DEFAULT
END:VEVENT
BEGIN:VEVENT
DTSTART;TZID=UTC:20231012T143000
DTEND;TZID=UTC:20231012T173000
DTSTAMP:20260422T061557
CREATED:20231003T163556Z
LAST-MODIFIED:20231003T163556Z
UID:1198-1697121000-1697131800@feldalinggiu.nadi.my
SUMMARY:e-Learning: Grammar English Tutor
DESCRIPTION:
URL:https://feldalinggiu.nadi.my/event/e-learning-grammar-english-tutor/
LOCATION:PEDi Felda Linggiu\, PEDi Felda Linggiu
CATEGORIES:DEFAULT
END:VEVENT
BEGIN:VEVENT
DTSTART;TZID=UTC:20231012T143000
DTEND;TZID=UTC:20231012T173000
DTSTAMP:20260422T061557
CREATED:20231003T163556Z
LAST-MODIFIED:20231003T163556Z
UID:1332-1697121000-1697131800@feldalinggiu.nadi.my
SUMMARY:e-Learning: Grammar English Tutor
DESCRIPTION:
URL:https://feldalinggiu.nadi.my/event/e-learning-grammar-english-tutor-2/
LOCATION:PEDi Felda Linggiu\, PEDi Felda Linggiu
CATEGORIES:DEFAULT
END:VEVENT
END:VCALENDAR