BEGIN:VCALENDAR
VERSION:2.0
PRODID:-//NADI Felda Linggiu - ECPv6.15.13.1//NONSGML v1.0//EN
CALSCALE:GREGORIAN
METHOD:PUBLISH
X-WR-CALNAME:NADI Felda Linggiu
X-ORIGINAL-URL:https://feldalinggiu.nadi.my
X-WR-CALDESC:Events for NADI Felda Linggiu
REFRESH-INTERVAL;VALUE=DURATION:PT1H
X-Robots-Tag:noindex
X-PUBLISHED-TTL:PT1H
BEGIN:VTIMEZONE
TZID:UTC
BEGIN:STANDARD
TZOFFSETFROM:+0000
TZOFFSETTO:+0000
TZNAME:UTC
DTSTART:20220101T000000
END:STANDARD
END:VTIMEZONE
BEGIN:VEVENT
DTSTART;TZID=UTC:20231019T100000
DTEND;TZID=UTC:20231019T110000
DTSTAMP:20260422T010631
CREATED:20231014T141956Z
LAST-MODIFIED:20231014T141956Z
UID:1336-1697709600-1697713200@feldalinggiu.nadi.my
SUMMARY:Usahawan : Kelas Tiktok Affiliate Bersama Pelajar Pendidikan Khas SMK Felda Linggiu
DESCRIPTION:
URL:https://feldalinggiu.nadi.my/event/usahawan-kelas-tiktok-affiliate-bersama-pelajar-pendidikan-khas-smk-felda-linggiu-2/
LOCATION:PEDi Felda Linggiu\, PEDi Felda Linggiu
CATEGORIES:DEFAULT
END:VEVENT
BEGIN:VEVENT
DTSTART;TZID=UTC:20231019T100000
DTEND;TZID=UTC:20231019T110000
DTSTAMP:20260422T010631
CREATED:20231014T141956Z
LAST-MODIFIED:20231014T141956Z
UID:1202-1697709600-1697713200@feldalinggiu.nadi.my
SUMMARY:Usahawan : Kelas Tiktok Affiliate Bersama Pelajar Pendidikan Khas SMK Felda Linggiu
DESCRIPTION:
URL:https://feldalinggiu.nadi.my/event/usahawan-kelas-tiktok-affiliate-bersama-pelajar-pendidikan-khas-smk-felda-linggiu/
LOCATION:PEDi Felda Linggiu\, PEDi Felda Linggiu
CATEGORIES:DEFAULT
END:VEVENT
BEGIN:VEVENT
DTSTART;TZID=UTC:20231019T090000
DTEND;TZID=UTC:20231019T100000
DTSTAMP:20260422T010631
CREATED:20231014T141847Z
LAST-MODIFIED:20231014T141847Z
UID:1335-1697706000-1697709600@feldalinggiu.nadi.my
SUMMARY:ICT : Tutorial Slideshow Microsoft Powerpoint Bersama Pelajar Pendidikan Khas SMK Felda Linggiu
DESCRIPTION:
URL:https://feldalinggiu.nadi.my/event/ict-tutorial-slideshow-microsoft-powerpoint-bersama-pelajar-pendidikan-khas-smk-felda-linggiu-2/
LOCATION:PEDi Felda Linggiu\, PEDi Felda Linggiu
CATEGORIES:DEFAULT
END:VEVENT
BEGIN:VEVENT
DTSTART;TZID=UTC:20231019T090000
DTEND;TZID=UTC:20231019T100000
DTSTAMP:20260422T010631
CREATED:20231014T141847Z
LAST-MODIFIED:20231014T141847Z
UID:1201-1697706000-1697709600@feldalinggiu.nadi.my
SUMMARY:ICT : Tutorial Slideshow Microsoft Powerpoint Bersama Pelajar Pendidikan Khas SMK Felda Linggiu
DESCRIPTION:
URL:https://feldalinggiu.nadi.my/event/ict-tutorial-slideshow-microsoft-powerpoint-bersama-pelajar-pendidikan-khas-smk-felda-linggiu/
LOCATION:PEDi Felda Linggiu\, PEDi Felda Linggiu
CATEGORIES:DEFAULT
END:VEVENT
BEGIN:VEVENT
DTSTART;TZID=UTC:20231017T150000
DTEND;TZID=UTC:20231017T173000
DTSTAMP:20260422T010631
CREATED:20231014T141803Z
LAST-MODIFIED:20231014T141803Z
UID:1334-1697554800-1697563800@feldalinggiu.nadi.my
SUMMARY:ICT : Kelas Tutorial Lakaran Digital
DESCRIPTION:
URL:https://feldalinggiu.nadi.my/event/ict-kelas-tutorial-lakaran-digital-2/
LOCATION:PEDi Felda Linggiu\, PEDi Felda Linggiu
CATEGORIES:DEFAULT
END:VEVENT
BEGIN:VEVENT
DTSTART;TZID=UTC:20231017T150000
DTEND;TZID=UTC:20231017T173000
DTSTAMP:20260422T010631
CREATED:20231014T141803Z
LAST-MODIFIED:20231014T141803Z
UID:1200-1697554800-1697563800@feldalinggiu.nadi.my
SUMMARY:ICT : Kelas Tutorial Lakaran Digital
DESCRIPTION:
URL:https://feldalinggiu.nadi.my/event/ict-kelas-tutorial-lakaran-digital/
LOCATION:PEDi Felda Linggiu\, PEDi Felda Linggiu
CATEGORIES:DEFAULT
END:VEVENT
BEGIN:VEVENT
DTSTART;TZID=UTC:20231013T100000
DTEND;TZID=UTC:20231013T120000
DTSTAMP:20260422T010631
CREATED:20231014T141645Z
LAST-MODIFIED:20231014T141645Z
UID:1199-1697191200-1697198400@feldalinggiu.nadi.my
SUMMARY:ICT : Belajar Menaip Petikan Ringkas
DESCRIPTION:
URL:https://feldalinggiu.nadi.my/event/ict-belajar-menaip-petikan-ringkas/
LOCATION:PEDi Felda Linggiu\, PEDi Felda Linggiu
CATEGORIES:DEFAULT
END:VEVENT
BEGIN:VEVENT
DTSTART;TZID=UTC:20231013T100000
DTEND;TZID=UTC:20231013T120000
DTSTAMP:20260422T010631
CREATED:20231014T141645Z
LAST-MODIFIED:20231014T141645Z
UID:1333-1697191200-1697198400@feldalinggiu.nadi.my
SUMMARY:ICT : Belajar Menaip Petikan Ringkas
DESCRIPTION:
URL:https://feldalinggiu.nadi.my/event/ict-belajar-menaip-petikan-ringkas-2/
LOCATION:PEDi Felda Linggiu\, PEDi Felda Linggiu
CATEGORIES:DEFAULT
END:VEVENT
BEGIN:VEVENT
DTSTART;TZID=UTC:20231012T143000
DTEND;TZID=UTC:20231012T173000
DTSTAMP:20260422T010631
CREATED:20231003T163556Z
LAST-MODIFIED:20231003T163556Z
UID:1198-1697121000-1697131800@feldalinggiu.nadi.my
SUMMARY:e-Learning: Grammar English Tutor
DESCRIPTION:
URL:https://feldalinggiu.nadi.my/event/e-learning-grammar-english-tutor/
LOCATION:PEDi Felda Linggiu\, PEDi Felda Linggiu
CATEGORIES:DEFAULT
END:VEVENT
BEGIN:VEVENT
DTSTART;TZID=UTC:20231012T143000
DTEND;TZID=UTC:20231012T173000
DTSTAMP:20260422T010631
CREATED:20231003T163556Z
LAST-MODIFIED:20231003T163556Z
UID:1332-1697121000-1697131800@feldalinggiu.nadi.my
SUMMARY:e-Learning: Grammar English Tutor
DESCRIPTION:
URL:https://feldalinggiu.nadi.my/event/e-learning-grammar-english-tutor-2/
LOCATION:PEDi Felda Linggiu\, PEDi Felda Linggiu
CATEGORIES:DEFAULT
END:VEVENT
BEGIN:VEVENT
DTSTART;TZID=UTC:20231011T093000
DTEND;TZID=UTC:20231011T130000
DTSTAMP:20260422T010631
CREATED:20231003T163448Z
LAST-MODIFIED:20231003T163448Z
UID:1331-1697016600-1697029200@feldalinggiu.nadi.my
SUMMARY:e-Learning: Penguasaan Bacaan dan Tulisan Jawi
DESCRIPTION:
URL:https://feldalinggiu.nadi.my/event/e-learning-penguasaan-bacaan-dan-tulisan-jawi-2/
LOCATION:PEDi Felda Linggiu\, PEDi Felda Linggiu
CATEGORIES:DEFAULT
END:VEVENT
BEGIN:VEVENT
DTSTART;TZID=UTC:20231011T093000
DTEND;TZID=UTC:20231011T130000
DTSTAMP:20260422T010631
CREATED:20231003T163448Z
LAST-MODIFIED:20231003T163448Z
UID:1197-1697016600-1697029200@feldalinggiu.nadi.my
SUMMARY:e-Learning: Penguasaan Bacaan dan Tulisan Jawi
DESCRIPTION:
URL:https://feldalinggiu.nadi.my/event/e-learning-penguasaan-bacaan-dan-tulisan-jawi/
LOCATION:PEDi Felda Linggiu\, PEDi Felda Linggiu
CATEGORIES:DEFAULT
END:VEVENT
BEGIN:VEVENT
DTSTART;TZID=UTC:20231006T143000
DTEND;TZID=UTC:20231006T173000
DTSTAMP:20260422T010631
CREATED:20231003T163300Z
LAST-MODIFIED:20231003T163300Z
UID:1330-1696602600-1696613400@feldalinggiu.nadi.my
SUMMARY:e-Learning: Smart Mandarin
DESCRIPTION:
URL:https://feldalinggiu.nadi.my/event/e-learning-smart-mandarin-2/
LOCATION:PEDi Felda Linggiu\, PEDi Felda Linggiu
CATEGORIES:DEFAULT
END:VEVENT
BEGIN:VEVENT
DTSTART;TZID=UTC:20231006T143000
DTEND;TZID=UTC:20231006T173000
DTSTAMP:20260422T010631
CREATED:20231003T163300Z
LAST-MODIFIED:20231003T163300Z
UID:1196-1696602600-1696613400@feldalinggiu.nadi.my
SUMMARY:e-Learning: Smart Mandarin
DESCRIPTION:
URL:https://feldalinggiu.nadi.my/event/e-learning-smart-mandarin/
LOCATION:PEDi Felda Linggiu\, PEDi Felda Linggiu
CATEGORIES:DEFAULT
END:VEVENT
BEGIN:VEVENT
DTSTART;TZID=UTC:20231005T093000
DTEND;TZID=UTC:20231005T130000
DTSTAMP:20260422T010631
CREATED:20231003T163214Z
LAST-MODIFIED:20231003T163214Z
UID:1329-1696498200-1696510800@feldalinggiu.nadi.my
SUMMARY:Usahawan: Bantuan Pembukaan Akaun Bank Syarikat & Permohonan Insentif Pemerkasaan Usahawan Negeri Johor Dari PUJB
DESCRIPTION:
URL:https://feldalinggiu.nadi.my/event/usahawan-bantuan-pembukaan-akaun-bank-syarikat-permohonan-insentif-pemerkasaan-usahawan-negeri-johor-dari-pujb-2/
LOCATION:PEDi Felda Linggiu\, PEDi Felda Linggiu
CATEGORIES:DEFAULT
END:VEVENT
BEGIN:VEVENT
DTSTART;TZID=UTC:20231005T093000
DTEND;TZID=UTC:20231005T130000
DTSTAMP:20260422T010631
CREATED:20231003T163214Z
LAST-MODIFIED:20231003T163214Z
UID:1195-1696498200-1696510800@feldalinggiu.nadi.my
SUMMARY:Usahawan: Bantuan Pembukaan Akaun Bank Syarikat & Permohonan Insentif Pemerkasaan Usahawan Negeri Johor Dari PUJB
DESCRIPTION:
URL:https://feldalinggiu.nadi.my/event/usahawan-bantuan-pembukaan-akaun-bank-syarikat-permohonan-insentif-pemerkasaan-usahawan-negeri-johor-dari-pujb/
LOCATION:PEDi Felda Linggiu\, PEDi Felda Linggiu
CATEGORIES:DEFAULT
END:VEVENT
BEGIN:VEVENT
DTSTART;TZID=UTC:20231003T093000
DTEND;TZID=UTC:20231003T130000
DTSTAMP:20260422T010631
CREATED:20231003T163129Z
LAST-MODIFIED:20231003T163129Z
UID:1194-1696325400-1696338000@feldalinggiu.nadi.my
SUMMARY:Usahawan : Kelas Tutorial Pembukaan Akaun Ezbiz SSM & Pendaftaran Perniagaan Percuma (SPPP)
DESCRIPTION:
URL:https://feldalinggiu.nadi.my/event/usahawan-kelas-tutorial-pembukaan-akaun-ezbiz-ssm-pendaftaran-perniagaan-percuma-sppp/
LOCATION:PEDi Felda Linggiu\, PEDi Felda Linggiu
CATEGORIES:DEFAULT
END:VEVENT
BEGIN:VEVENT
DTSTART;TZID=UTC:20231003T093000
DTEND;TZID=UTC:20231003T130000
DTSTAMP:20260422T010631
CREATED:20231003T163129Z
LAST-MODIFIED:20231003T163129Z
UID:1328-1696325400-1696338000@feldalinggiu.nadi.my
SUMMARY:Usahawan : Kelas Tutorial Pembukaan Akaun Ezbiz SSM & Pendaftaran Perniagaan Percuma (SPPP)
DESCRIPTION:
URL:https://feldalinggiu.nadi.my/event/usahawan-kelas-tutorial-pembukaan-akaun-ezbiz-ssm-pendaftaran-perniagaan-percuma-sppp-2/
LOCATION:PEDi Felda Linggiu\, PEDi Felda Linggiu
CATEGORIES:DEFAULT
END:VEVENT
BEGIN:VEVENT
DTSTART;TZID=UTC:20230925T100000
DTEND;TZID=UTC:20230925T110000
DTSTAMP:20260422T010631
CREATED:20230922T120018Z
LAST-MODIFIED:20230922T120018Z
UID:1326-1695636000-1695639600@feldalinggiu.nadi.my
SUMMARY:Usahawan : Taklimat SSM - Pendaftaran Perniagaan Percuma
DESCRIPTION:Kepada anda yang dibawah\, sila ambil perhatian?\n.\n?Peniaga kecil dan Penjaja (Separuh masa/ sepenuh masa)\n?Peniaga atas talian dan media sosial\n?Peniaga secara jualan langsung\, dropshipper\, agen insurans\, agen penapis air dan sebagainya\n?Pelajar IPT\n.\n.\nDibawah Program Pemerkasaan Pendigitalan Usahawan Kecil (PUPUK) dengan kerjasama bersama pihak @skmm_mcmc \, @unifi.official.my & @ssmofficialpage \, satu taklimat akan dianjurkan untuk memberi Penerangan Berkenaan Pendaftaran Perniagaan SSM serta turut menawarkan inisiatif Skim Pendaftaran Perniagaan Prihatin (SPPP) secara PERCUMA kepada golongan sasaran.\nHubungi kami melalui WhatsApp (0105483831) untuk sebarang pertanyaan.\nDaftar awal –> https://rb.gy/9phrbj
URL:https://feldalinggiu.nadi.my/event/usahawan-taklimat-ssm-pendaftaran-perniagaan-percuma-2/
LOCATION:ONLINE\, ONLINE
CATEGORIES:DEFAULT
ATTACH;FMTTYPE=image/jpeg:https://feldalinggiu.nadi.my/wp-content/uploads/2023/07/SSM.jpeg
END:VEVENT
BEGIN:VEVENT
DTSTART;TZID=UTC:20230925T100000
DTEND;TZID=UTC:20230925T110000
DTSTAMP:20260422T010631
CREATED:20230922T120018Z
LAST-MODIFIED:20230922T120018Z
UID:1192-1695636000-1695639600@feldalinggiu.nadi.my
SUMMARY:Usahawan : Taklimat SSM - Pendaftaran Perniagaan Percuma
DESCRIPTION:Kepada anda yang dibawah\, sila ambil perhatian?\n.\n?Peniaga kecil dan Penjaja (Separuh masa/ sepenuh masa)\n?Peniaga atas talian dan media sosial\n?Peniaga secara jualan langsung\, dropshipper\, agen insurans\, agen penapis air dan sebagainya\n?Pelajar IPT\n.\n.\nDibawah Program Pemerkasaan Pendigitalan Usahawan Kecil (PUPUK) dengan kerjasama bersama pihak @skmm_mcmc \, @unifi.official.my & @ssmofficialpage \, satu taklimat akan dianjurkan untuk memberi Penerangan Berkenaan Pendaftaran Perniagaan SSM serta turut menawarkan inisiatif Skim Pendaftaran Perniagaan Prihatin (SPPP) secara PERCUMA kepada golongan sasaran.\nHubungi kami melalui WhatsApp (0105483831) untuk sebarang pertanyaan.\nDaftar awal –> https://rb.gy/9phrbj
URL:https://feldalinggiu.nadi.my/event/usahawan-taklimat-ssm-pendaftaran-perniagaan-percuma/
LOCATION:ONLINE\, ONLINE
CATEGORIES:DEFAULT
ATTACH;FMTTYPE=image/jpeg:https://feldalinggiu.nadi.my/wp-content/uploads/2023/07/SSM.jpeg
END:VEVENT
BEGIN:VEVENT
DTSTART;TZID=UTC:20230924T093000
DTEND;TZID=UTC:20230924T123000
DTSTAMP:20260422T010631
CREATED:20230922T120326Z
LAST-MODIFIED:20230922T120326Z
UID:1193-1695547800-1695558600@feldalinggiu.nadi.my
SUMMARY:Usahawan : Kursus Latihan Pengendali Makanan (KLPM)
DESCRIPTION:
URL:https://feldalinggiu.nadi.my/event/usahawan-kursus-latihan-pengendali-makanan-klpm-2/
LOCATION:ONLINE\, ONLINE
CATEGORIES:DEFAULT
ATTACH;FMTTYPE=image/jpeg:https://feldalinggiu.nadi.my/wp-content/uploads/2023/07/KLPM.jpeg
END:VEVENT
BEGIN:VEVENT
DTSTART;TZID=UTC:20230924T093000
DTEND;TZID=UTC:20230924T123000
DTSTAMP:20260422T010631
CREATED:20230922T120326Z
LAST-MODIFIED:20230922T120326Z
UID:1327-1695547800-1695558600@feldalinggiu.nadi.my
SUMMARY:Usahawan : Kursus Latihan Pengendali Makanan (KLPM)
DESCRIPTION:
URL:https://feldalinggiu.nadi.my/event/usahawan-kursus-latihan-pengendali-makanan-klpm-4/
LOCATION:ONLINE\, ONLINE
CATEGORIES:DEFAULT
ATTACH;FMTTYPE=image/jpeg:https://feldalinggiu.nadi.my/wp-content/uploads/2023/07/KLPM.jpeg
END:VEVENT
BEGIN:VEVENT
DTSTART;TZID=UTC:20230921T100000
DTEND;TZID=UTC:20230921T120000
DTSTAMP:20260422T010631
CREATED:20230830T095339Z
LAST-MODIFIED:20230830T095339Z
UID:1174-1695290400-1695297600@feldalinggiu.nadi.my
SUMMARY:Usahawan : Kelas Tiktok Affiliate Produk Sendiri
DESCRIPTION:
URL:https://feldalinggiu.nadi.my/event/usahawan-kelas-tiktok-affiliate-produk-sendiri/
LOCATION:PEDi Felda Linggiu\, PEDi Felda Linggiu
CATEGORIES:DEFAULT
END:VEVENT
BEGIN:VEVENT
DTSTART;TZID=UTC:20230921T100000
DTEND;TZID=UTC:20230921T120000
DTSTAMP:20260422T010631
CREATED:20230830T095339Z
LAST-MODIFIED:20230830T095339Z
UID:1311-1695290400-1695297600@feldalinggiu.nadi.my
SUMMARY:Usahawan : Kelas Tiktok Affiliate Produk Sendiri
DESCRIPTION:
URL:https://feldalinggiu.nadi.my/event/usahawan-kelas-tiktok-affiliate-produk-sendiri-2/
LOCATION:PEDi Felda Linggiu\, PEDi Felda Linggiu
CATEGORIES:DEFAULT
END:VEVENT
BEGIN:VEVENT
DTSTART;TZID=UTC:20230918T100000
DTEND;TZID=UTC:20230918T113000
DTSTAMP:20260422T010631
CREATED:20230906T112323Z
LAST-MODIFIED:20230906T112323Z
UID:1324-1695031200-1695036600@feldalinggiu.nadi.my
SUMMARY:STEM IoT : Projek Frame Gambar DIY Bersama Pelajar Pusat Literasi Felda Linggiu
DESCRIPTION:
URL:https://feldalinggiu.nadi.my/event/stem-iot-projek-frame-gambar-diy-bersama-pelajar-pusat-literasi-felda-linggiu-2/
LOCATION:PEDi Felda Linggiu\, PEDi Felda Linggiu
CATEGORIES:DEFAULT
END:VEVENT
BEGIN:VEVENT
DTSTART;TZID=UTC:20230918T100000
DTEND;TZID=UTC:20230918T113000
DTSTAMP:20260422T010631
CREATED:20230906T112323Z
LAST-MODIFIED:20230906T112323Z
UID:1190-1695031200-1695036600@feldalinggiu.nadi.my
SUMMARY:STEM IoT : Projek Frame Gambar DIY Bersama Pelajar Pusat Literasi Felda Linggiu
DESCRIPTION:
URL:https://feldalinggiu.nadi.my/event/stem-iot-projek-frame-gambar-diy-bersama-pelajar-pusat-literasi-felda-linggiu/
LOCATION:PEDi Felda Linggiu\, PEDi Felda Linggiu
CATEGORIES:DEFAULT
END:VEVENT
BEGIN:VEVENT
DTSTART;TZID=UTC:20230918T090000
DTEND;TZID=UTC:20230918T100000
DTSTAMP:20260422T010631
CREATED:20230906T112218Z
LAST-MODIFIED:20230906T112218Z
UID:1323-1695027600-1695031200@feldalinggiu.nadi.my
SUMMARY:ICT : Pengenalan Perkakasan Komputer Bersama Pelajar Pusat Literasi Felda Linggiu
DESCRIPTION:
URL:https://feldalinggiu.nadi.my/event/ict-pengenalan-perkakasan-komputer-bersama-pelajar-pusat-literasi-felda-linggiu-2/
LOCATION:PEDi Felda Linggiu\, PEDi Felda Linggiu
CATEGORIES:DEFAULT
END:VEVENT
BEGIN:VEVENT
DTSTART;TZID=UTC:20230918T090000
DTEND;TZID=UTC:20230918T100000
DTSTAMP:20260422T010631
CREATED:20230906T112218Z
LAST-MODIFIED:20230906T112218Z
UID:1189-1695027600-1695031200@feldalinggiu.nadi.my
SUMMARY:ICT : Pengenalan Perkakasan Komputer Bersama Pelajar Pusat Literasi Felda Linggiu
DESCRIPTION:
URL:https://feldalinggiu.nadi.my/event/ict-pengenalan-perkakasan-komputer-bersama-pelajar-pusat-literasi-felda-linggiu/
LOCATION:PEDi Felda Linggiu\, PEDi Felda Linggiu
CATEGORIES:DEFAULT
END:VEVENT
BEGIN:VEVENT
DTSTART;TZID=UTC:20230916T080000
DTEND;TZID=UTC:20230916T130000
DTSTAMP:20260422T010631
CREATED:20230906T111355Z
LAST-MODIFIED:20230906T111355Z
UID:1188-1694851200-1694869200@feldalinggiu.nadi.my
SUMMARY:Advokasi : Sambutan Hari Malaysia & Hari Kebangsaan Peringkat Felda Linggiu
DESCRIPTION:
URL:https://feldalinggiu.nadi.my/event/advokasi-sambutan-hari-malaysia-hari-kebangsaan-peringkat-felda-linggiu/
LOCATION:Dewan Terbuka Felda Linggiu Johor\, Dewan Terbuka Felda Linggiu Johor
CATEGORIES:DEFAULT
ATTACH;FMTTYPE=image/jpeg:https://feldalinggiu.nadi.my/wp-content/uploads/2023/09/HARIMALAYSIA.jpeg
END:VEVENT
BEGIN:VEVENT
DTSTART;TZID=UTC:20230916T080000
DTEND;TZID=UTC:20230916T130000
DTSTAMP:20260422T010631
CREATED:20230906T111355Z
LAST-MODIFIED:20230906T111355Z
UID:1322-1694851200-1694869200@feldalinggiu.nadi.my
SUMMARY:Advokasi : Sambutan Hari Malaysia & Hari Kebangsaan Peringkat Felda Linggiu
DESCRIPTION:
URL:https://feldalinggiu.nadi.my/event/advokasi-sambutan-hari-malaysia-hari-kebangsaan-peringkat-felda-linggiu-2/
LOCATION:Dewan Terbuka Felda Linggiu Johor\, Dewan Terbuka Felda Linggiu Johor
CATEGORIES:DEFAULT
ATTACH;FMTTYPE=image/jpeg:https://feldalinggiu.nadi.my/wp-content/uploads/2023/09/HARIMALAYSIA.jpeg
END:VEVENT
END:VCALENDAR