BEGIN:VCALENDAR
VERSION:2.0
PRODID:-//NADI Felda Linggiu - ECPv6.15.13.1//NONSGML v1.0//EN
CALSCALE:GREGORIAN
METHOD:PUBLISH
X-WR-CALNAME:NADI Felda Linggiu
X-ORIGINAL-URL:https://feldalinggiu.nadi.my
X-WR-CALDESC:Events for NADI Felda Linggiu
REFRESH-INTERVAL;VALUE=DURATION:PT1H
X-Robots-Tag:noindex
X-PUBLISHED-TTL:PT1H
BEGIN:VTIMEZONE
TZID:UTC
BEGIN:STANDARD
TZOFFSETFROM:+0000
TZOFFSETTO:+0000
TZNAME:UTC
DTSTART:20220101T000000
END:STANDARD
END:VTIMEZONE
BEGIN:VEVENT
DTSTART;TZID=UTC:20230924T093000
DTEND;TZID=UTC:20230924T123000
DTSTAMP:20260422T072030
CREATED:20230922T120326Z
LAST-MODIFIED:20230922T120326Z
UID:1193-1695547800-1695558600@feldalinggiu.nadi.my
SUMMARY:Usahawan : Kursus Latihan Pengendali Makanan (KLPM)
DESCRIPTION:
URL:https://feldalinggiu.nadi.my/event/usahawan-kursus-latihan-pengendali-makanan-klpm-2/
LOCATION:ONLINE\, ONLINE
CATEGORIES:DEFAULT
ATTACH;FMTTYPE=image/jpeg:https://feldalinggiu.nadi.my/wp-content/uploads/2023/07/KLPM.jpeg
END:VEVENT
BEGIN:VEVENT
DTSTART;TZID=UTC:20230924T093000
DTEND;TZID=UTC:20230924T123000
DTSTAMP:20260422T072030
CREATED:20230922T120326Z
LAST-MODIFIED:20230922T120326Z
UID:1327-1695547800-1695558600@feldalinggiu.nadi.my
SUMMARY:Usahawan : Kursus Latihan Pengendali Makanan (KLPM)
DESCRIPTION:
URL:https://feldalinggiu.nadi.my/event/usahawan-kursus-latihan-pengendali-makanan-klpm-4/
LOCATION:ONLINE\, ONLINE
CATEGORIES:DEFAULT
ATTACH;FMTTYPE=image/jpeg:https://feldalinggiu.nadi.my/wp-content/uploads/2023/07/KLPM.jpeg
END:VEVENT
BEGIN:VEVENT
DTSTART;TZID=UTC:20230921T100000
DTEND;TZID=UTC:20230921T120000
DTSTAMP:20260422T072030
CREATED:20230830T095339Z
LAST-MODIFIED:20230830T095339Z
UID:1174-1695290400-1695297600@feldalinggiu.nadi.my
SUMMARY:Usahawan : Kelas Tiktok Affiliate Produk Sendiri
DESCRIPTION:
URL:https://feldalinggiu.nadi.my/event/usahawan-kelas-tiktok-affiliate-produk-sendiri/
LOCATION:PEDi Felda Linggiu\, PEDi Felda Linggiu
CATEGORIES:DEFAULT
END:VEVENT
BEGIN:VEVENT
DTSTART;TZID=UTC:20230921T100000
DTEND;TZID=UTC:20230921T120000
DTSTAMP:20260422T072030
CREATED:20230830T095339Z
LAST-MODIFIED:20230830T095339Z
UID:1311-1695290400-1695297600@feldalinggiu.nadi.my
SUMMARY:Usahawan : Kelas Tiktok Affiliate Produk Sendiri
DESCRIPTION:
URL:https://feldalinggiu.nadi.my/event/usahawan-kelas-tiktok-affiliate-produk-sendiri-2/
LOCATION:PEDi Felda Linggiu\, PEDi Felda Linggiu
CATEGORIES:DEFAULT
END:VEVENT
BEGIN:VEVENT
DTSTART;TZID=UTC:20230918T100000
DTEND;TZID=UTC:20230918T113000
DTSTAMP:20260422T072030
CREATED:20230906T112323Z
LAST-MODIFIED:20230906T112323Z
UID:1324-1695031200-1695036600@feldalinggiu.nadi.my
SUMMARY:STEM IoT : Projek Frame Gambar DIY Bersama Pelajar Pusat Literasi Felda Linggiu
DESCRIPTION:
URL:https://feldalinggiu.nadi.my/event/stem-iot-projek-frame-gambar-diy-bersama-pelajar-pusat-literasi-felda-linggiu-2/
LOCATION:PEDi Felda Linggiu\, PEDi Felda Linggiu
CATEGORIES:DEFAULT
END:VEVENT
BEGIN:VEVENT
DTSTART;TZID=UTC:20230918T100000
DTEND;TZID=UTC:20230918T113000
DTSTAMP:20260422T072030
CREATED:20230906T112323Z
LAST-MODIFIED:20230906T112323Z
UID:1190-1695031200-1695036600@feldalinggiu.nadi.my
SUMMARY:STEM IoT : Projek Frame Gambar DIY Bersama Pelajar Pusat Literasi Felda Linggiu
DESCRIPTION:
URL:https://feldalinggiu.nadi.my/event/stem-iot-projek-frame-gambar-diy-bersama-pelajar-pusat-literasi-felda-linggiu/
LOCATION:PEDi Felda Linggiu\, PEDi Felda Linggiu
CATEGORIES:DEFAULT
END:VEVENT
BEGIN:VEVENT
DTSTART;TZID=UTC:20230918T090000
DTEND;TZID=UTC:20230918T100000
DTSTAMP:20260422T072030
CREATED:20230906T112218Z
LAST-MODIFIED:20230906T112218Z
UID:1323-1695027600-1695031200@feldalinggiu.nadi.my
SUMMARY:ICT : Pengenalan Perkakasan Komputer Bersama Pelajar Pusat Literasi Felda Linggiu
DESCRIPTION:
URL:https://feldalinggiu.nadi.my/event/ict-pengenalan-perkakasan-komputer-bersama-pelajar-pusat-literasi-felda-linggiu-2/
LOCATION:PEDi Felda Linggiu\, PEDi Felda Linggiu
CATEGORIES:DEFAULT
END:VEVENT
BEGIN:VEVENT
DTSTART;TZID=UTC:20230918T090000
DTEND;TZID=UTC:20230918T100000
DTSTAMP:20260422T072030
CREATED:20230906T112218Z
LAST-MODIFIED:20230906T112218Z
UID:1189-1695027600-1695031200@feldalinggiu.nadi.my
SUMMARY:ICT : Pengenalan Perkakasan Komputer Bersama Pelajar Pusat Literasi Felda Linggiu
DESCRIPTION:
URL:https://feldalinggiu.nadi.my/event/ict-pengenalan-perkakasan-komputer-bersama-pelajar-pusat-literasi-felda-linggiu/
LOCATION:PEDi Felda Linggiu\, PEDi Felda Linggiu
CATEGORIES:DEFAULT
END:VEVENT
BEGIN:VEVENT
DTSTART;TZID=UTC:20230916T080000
DTEND;TZID=UTC:20230916T130000
DTSTAMP:20260422T072030
CREATED:20230906T111355Z
LAST-MODIFIED:20230906T111355Z
UID:1188-1694851200-1694869200@feldalinggiu.nadi.my
SUMMARY:Advokasi : Sambutan Hari Malaysia & Hari Kebangsaan Peringkat Felda Linggiu
DESCRIPTION:
URL:https://feldalinggiu.nadi.my/event/advokasi-sambutan-hari-malaysia-hari-kebangsaan-peringkat-felda-linggiu/
LOCATION:Dewan Terbuka Felda Linggiu Johor\, Dewan Terbuka Felda Linggiu Johor
CATEGORIES:DEFAULT
ATTACH;FMTTYPE=image/jpeg:https://feldalinggiu.nadi.my/wp-content/uploads/2023/09/HARIMALAYSIA.jpeg
END:VEVENT
BEGIN:VEVENT
DTSTART;TZID=UTC:20230916T080000
DTEND;TZID=UTC:20230916T130000
DTSTAMP:20260422T072030
CREATED:20230906T111355Z
LAST-MODIFIED:20230906T111355Z
UID:1322-1694851200-1694869200@feldalinggiu.nadi.my
SUMMARY:Advokasi : Sambutan Hari Malaysia & Hari Kebangsaan Peringkat Felda Linggiu
DESCRIPTION:
URL:https://feldalinggiu.nadi.my/event/advokasi-sambutan-hari-malaysia-hari-kebangsaan-peringkat-felda-linggiu-2/
LOCATION:Dewan Terbuka Felda Linggiu Johor\, Dewan Terbuka Felda Linggiu Johor
CATEGORIES:DEFAULT
ATTACH;FMTTYPE=image/jpeg:https://feldalinggiu.nadi.my/wp-content/uploads/2023/09/HARIMALAYSIA.jpeg
END:VEVENT
BEGIN:VEVENT
DTSTART;TZID=UTC:20230914T100000
DTEND;TZID=UTC:20230914T120000
DTSTAMP:20260422T072030
CREATED:20230830T095225Z
LAST-MODIFIED:20230830T095225Z
UID:1310-1694685600-1694692800@feldalinggiu.nadi.my
SUMMARY:Usahawan : Kursus Pemasaran Melalui Linktree
DESCRIPTION:
URL:https://feldalinggiu.nadi.my/event/usahawan-kursus-pemasaran-melalui-linktree-2/
LOCATION:PEDi Felda Linggiu\, PEDi Felda Linggiu
CATEGORIES:DEFAULT
END:VEVENT
BEGIN:VEVENT
DTSTART;TZID=UTC:20230914T100000
DTEND;TZID=UTC:20230914T120000
DTSTAMP:20260422T072030
CREATED:20230830T095225Z
LAST-MODIFIED:20230830T095225Z
UID:1173-1694685600-1694692800@feldalinggiu.nadi.my
SUMMARY:Usahawan : Kursus Pemasaran Melalui Linktree
DESCRIPTION:
URL:https://feldalinggiu.nadi.my/event/usahawan-kursus-pemasaran-melalui-linktree/
LOCATION:PEDi Felda Linggiu\, PEDi Felda Linggiu
CATEGORIES:DEFAULT
END:VEVENT
BEGIN:VEVENT
DTSTART;TZID=UTC:20230912T210000
DTEND;TZID=UTC:20230912T233000
DTSTAMP:20260422T072030
CREATED:20230906T111158Z
LAST-MODIFIED:20230906T111158Z
UID:1186-1694552400-1694561400@feldalinggiu.nadi.my
SUMMARY:STEM IoT : Projek Straw Plane DIY
DESCRIPTION:
URL:https://feldalinggiu.nadi.my/event/stem-iot-projek-straw-plane-diy/
LOCATION:Pusat Literasi Felda Linggiu\, Pusat Literasi Felda Linggiu
CATEGORIES:DEFAULT
END:VEVENT
BEGIN:VEVENT
DTSTART;TZID=UTC:20230912T210000
DTEND;TZID=UTC:20230912T233000
DTSTAMP:20260422T072030
CREATED:20230906T111158Z
LAST-MODIFIED:20230906T111158Z
UID:1321-1694552400-1694561400@feldalinggiu.nadi.my
SUMMARY:STEM IoT : Projek Straw Plane DIY
DESCRIPTION:
URL:https://feldalinggiu.nadi.my/event/stem-iot-projek-straw-plane-diy-2/
LOCATION:Pusat Literasi Felda Linggiu\, Pusat Literasi Felda Linggiu
CATEGORIES:DEFAULT
END:VEVENT
BEGIN:VEVENT
DTSTART;TZID=UTC:20230909T150000
DTEND;TZID=UTC:20230909T180000
DTSTAMP:20260422T072030
CREATED:20230909T153635Z
LAST-MODIFIED:20230909T153635Z
UID:1325-1694271600-1694282400@feldalinggiu.nadi.my
SUMMARY:ICT : Modul Nilam Johor
DESCRIPTION:
URL:https://feldalinggiu.nadi.my/event/ict-modul-nilam-johor-3/
LOCATION:PEDi Felda Linggiu (Online)\, PEDi Felda Linggiu (Online)
CATEGORIES:DEFAULT
END:VEVENT
BEGIN:VEVENT
DTSTART;TZID=UTC:20230909T150000
DTEND;TZID=UTC:20230909T180000
DTSTAMP:20260422T072030
CREATED:20230909T153635Z
LAST-MODIFIED:20230909T153635Z
UID:1191-1694271600-1694282400@feldalinggiu.nadi.my
SUMMARY:ICT : Modul Nilam Johor
DESCRIPTION:
URL:https://feldalinggiu.nadi.my/event/ict-modul-nilam-johor/
LOCATION:PEDi Felda Linggiu (Online)\, PEDi Felda Linggiu (Online)
CATEGORIES:DEFAULT
END:VEVENT
BEGIN:VEVENT
DTSTART;TZID=UTC:20230908T150000
DTEND;TZID=UTC:20230908T173000
DTSTAMP:20260422T072030
CREATED:20230830T100151Z
LAST-MODIFIED:20230830T100151Z
UID:1318-1694185200-1694194200@feldalinggiu.nadi.my
SUMMARY:Soft Skill : Smart Technique Menghafal Sifir
DESCRIPTION:
URL:https://feldalinggiu.nadi.my/event/soft-skill-smart-technique-menghafal-sifir-2/
LOCATION:PEDi Felda Linggiu\, PEDi Felda Linggiu
CATEGORIES:DEFAULT
END:VEVENT
BEGIN:VEVENT
DTSTART;TZID=UTC:20230908T150000
DTEND;TZID=UTC:20230908T173000
DTSTAMP:20260422T072030
CREATED:20230830T100151Z
LAST-MODIFIED:20230830T100151Z
UID:1181-1694185200-1694194200@feldalinggiu.nadi.my
SUMMARY:Soft Skill : Smart Technique Menghafal Sifir
DESCRIPTION:
URL:https://feldalinggiu.nadi.my/event/soft-skill-smart-technique-menghafal-sifir/
LOCATION:PEDi Felda Linggiu\, PEDi Felda Linggiu
CATEGORIES:DEFAULT
END:VEVENT
BEGIN:VEVENT
DTSTART;TZID=UTC:20230908T143000
DTEND;TZID=UTC:20230908T173000
DTSTAMP:20260422T072030
CREATED:20230906T110930Z
LAST-MODIFIED:20230906T110930Z
UID:1320-1694183400-1694194200@feldalinggiu.nadi.my
SUMMARY:e-Learning : Word Search Game
DESCRIPTION:
URL:https://feldalinggiu.nadi.my/event/e-learning-word-search-game-2/
LOCATION:PEDi Felda Linggiu\, PEDi Felda Linggiu
CATEGORIES:DEFAULT
END:VEVENT
BEGIN:VEVENT
DTSTART;TZID=UTC:20230908T143000
DTEND;TZID=UTC:20230908T173000
DTSTAMP:20260422T072030
CREATED:20230906T110930Z
LAST-MODIFIED:20230906T110930Z
UID:1184-1694183400-1694194200@feldalinggiu.nadi.my
SUMMARY:e-Learning : Word Search Game
DESCRIPTION:
URL:https://feldalinggiu.nadi.my/event/e-learning-word-search-game/
LOCATION:PEDi Felda Linggiu\, PEDi Felda Linggiu
CATEGORIES:DEFAULT
END:VEVENT
BEGIN:VEVENT
DTSTART;TZID=UTC:20230907T110000
DTEND;TZID=UTC:20230907T120000
DTSTAMP:20260422T072030
CREATED:20230830T095500Z
LAST-MODIFIED:20230830T095500Z
UID:1175-1694084400-1694088000@feldalinggiu.nadi.my
SUMMARY:Soft Skill : Critical Thinking Bersama Pelajar Khas SMK Felda Linggiu
DESCRIPTION:
URL:https://feldalinggiu.nadi.my/event/soft-skill-critical-thinking-bersama-pelajar-khas-smk-felda-linggiu/
LOCATION:PEDi Felda Linggiu\, PEDi Felda Linggiu
CATEGORIES:DEFAULT
END:VEVENT
BEGIN:VEVENT
DTSTART;TZID=UTC:20230907T110000
DTEND;TZID=UTC:20230907T120000
DTSTAMP:20260422T072030
CREATED:20230830T095500Z
LAST-MODIFIED:20230830T095500Z
UID:1312-1694084400-1694088000@feldalinggiu.nadi.my
SUMMARY:Soft Skill : Critical Thinking Bersama Pelajar Khas SMK Felda Linggiu
DESCRIPTION:
URL:https://feldalinggiu.nadi.my/event/soft-skill-critical-thinking-bersama-pelajar-khas-smk-felda-linggiu-2/
LOCATION:PEDi Felda Linggiu\, PEDi Felda Linggiu
CATEGORIES:DEFAULT
END:VEVENT
BEGIN:VEVENT
DTSTART;TZID=UTC:20230907T100000
DTEND;TZID=UTC:20230907T110000
DTSTAMP:20260422T072030
CREATED:20230830T095556Z
LAST-MODIFIED:20230830T095556Z
UID:1313-1694080800-1694084400@feldalinggiu.nadi.my
SUMMARY:ICT : Belajar Menaip Bersama Pelajar Khas SMK Linggiu
DESCRIPTION:
URL:https://feldalinggiu.nadi.my/event/ict-belajar-menaip-bersama-pelajar-khas-smk-linggiu-2/
CATEGORIES:DEFAULT
END:VEVENT
BEGIN:VEVENT
DTSTART;TZID=UTC:20230907T100000
DTEND;TZID=UTC:20230907T110000
DTSTAMP:20260422T072030
CREATED:20230830T095556Z
LAST-MODIFIED:20230830T095556Z
UID:1176-1694080800-1694084400@feldalinggiu.nadi.my
SUMMARY:ICT : Belajar Menaip Bersama Pelajar Khas SMK Linggiu
DESCRIPTION:
URL:https://feldalinggiu.nadi.my/event/ict-belajar-menaip-bersama-pelajar-khas-smk-linggiu/
CATEGORIES:DEFAULT
END:VEVENT
BEGIN:VEVENT
DTSTART;TZID=UTC:20230907T090000
DTEND;TZID=UTC:20230907T100000
DTSTAMP:20260422T072030
CREATED:20230830T095711Z
LAST-MODIFIED:20230830T095711Z
UID:1314-1694077200-1694080800@feldalinggiu.nadi.my
SUMMARY:STEM IoT : STEM Word Search Bersama Pelajar Khas SMK Linggiu
DESCRIPTION:
URL:https://feldalinggiu.nadi.my/event/stem-iot-stem-word-search-bersama-pelajar-khas-smk-linggiu-2/
LOCATION:PEDi Felda Linggiu\, PEDi Felda Linggiu
CATEGORIES:DEFAULT
END:VEVENT
BEGIN:VEVENT
DTSTART;TZID=UTC:20230907T090000
DTEND;TZID=UTC:20230907T100000
DTSTAMP:20260422T072030
CREATED:20230830T095711Z
LAST-MODIFIED:20230830T095711Z
UID:1177-1694077200-1694080800@feldalinggiu.nadi.my
SUMMARY:STEM IoT : STEM Word Search Bersama Pelajar Khas SMK Linggiu
DESCRIPTION:
URL:https://feldalinggiu.nadi.my/event/stem-iot-stem-word-search-bersama-pelajar-khas-smk-linggiu/
LOCATION:PEDi Felda Linggiu\, PEDi Felda Linggiu
CATEGORIES:DEFAULT
END:VEVENT
BEGIN:VEVENT
DTSTART;TZID=UTC:20230906T150000
DTEND;TZID=UTC:20230906T170000
DTSTAMP:20260422T072030
CREATED:20230830T095843Z
LAST-MODIFIED:20230830T095843Z
UID:1315-1694012400-1694019600@feldalinggiu.nadi.my
SUMMARY:e-Learning : Pembelajaran Subjek Matematik
DESCRIPTION:
URL:https://feldalinggiu.nadi.my/event/e-learning-pembelajaran-subjek-matematik-2/
LOCATION:PEDi Felda Linggiu\, PEDi Felda Linggiu
CATEGORIES:DEFAULT
END:VEVENT
BEGIN:VEVENT
DTSTART;TZID=UTC:20230906T150000
DTEND;TZID=UTC:20230906T170000
DTSTAMP:20260422T072030
CREATED:20230830T095843Z
LAST-MODIFIED:20230830T095843Z
UID:1178-1694012400-1694019600@feldalinggiu.nadi.my
SUMMARY:e-Learning : Pembelajaran Subjek Matematik
DESCRIPTION:
URL:https://feldalinggiu.nadi.my/event/e-learning-pembelajaran-subjek-matematik/
LOCATION:PEDi Felda Linggiu\, PEDi Felda Linggiu
CATEGORIES:DEFAULT
END:VEVENT
BEGIN:VEVENT
DTSTART;TZID=UTC:20230905T150000
DTEND;TZID=UTC:20230905T170000
DTSTAMP:20260422T072030
CREATED:20230830T100003Z
LAST-MODIFIED:20230830T100003Z
UID:1179-1693926000-1693933200@feldalinggiu.nadi.my
SUMMARY:e-Learning : Penguasaan Subjek Bahasa Melayu
DESCRIPTION:
URL:https://feldalinggiu.nadi.my/event/e-learning-penguasaan-subjek-bahasa-melayu/
LOCATION:PEDi Felda Linggiu\, PEDi Felda Linggiu
CATEGORIES:DEFAULT
END:VEVENT
BEGIN:VEVENT
DTSTART;TZID=UTC:20230905T150000
DTEND;TZID=UTC:20230905T170000
DTSTAMP:20260422T072030
CREATED:20230830T100003Z
LAST-MODIFIED:20230830T100003Z
UID:1316-1693926000-1693933200@feldalinggiu.nadi.my
SUMMARY:e-Learning : Penguasaan Subjek Bahasa Melayu
DESCRIPTION:
URL:https://feldalinggiu.nadi.my/event/e-learning-penguasaan-subjek-bahasa-melayu-2/
LOCATION:PEDi Felda Linggiu\, PEDi Felda Linggiu
CATEGORIES:DEFAULT
END:VEVENT
END:VCALENDAR