BEGIN:VCALENDAR
VERSION:2.0
PRODID:-//NADI Felda Linggiu - ECPv6.15.20//NONSGML v1.0//EN
CALSCALE:GREGORIAN
METHOD:PUBLISH
X-WR-CALNAME:NADI Felda Linggiu
X-ORIGINAL-URL:https://feldalinggiu.nadi.my
X-WR-CALDESC:Events for NADI Felda Linggiu
REFRESH-INTERVAL;VALUE=DURATION:PT1H
X-Robots-Tag:noindex
X-PUBLISHED-TTL:PT1H
BEGIN:VTIMEZONE
TZID:UTC
BEGIN:STANDARD
TZOFFSETFROM:+0000
TZOFFSETTO:+0000
TZNAME:UTC
DTSTART:20220101T000000
END:STANDARD
END:VTIMEZONE
BEGIN:VEVENT
DTSTART;TZID=UTC:20230818T143000
DTEND;TZID=UTC:20230818T160000
DTSTAMP:20260424T233450
CREATED:20230815T151946Z
LAST-MODIFIED:20230815T151946Z
UID:1161-1692369000-1692374400@feldalinggiu.nadi.my
SUMMARY:e-Learning : Pra Sekolah Belajar Suku Kata
DESCRIPTION:
URL:https://feldalinggiu.nadi.my/event/e-learning-pra-sekolah-belajar-suku-kata/
LOCATION:PEDi Felda Linggiu\, PEDi Felda Linggiu
CATEGORIES:DEFAULT
END:VEVENT
BEGIN:VEVENT
DTSTART;TZID=UTC:20230818T100000
DTEND;TZID=UTC:20230818T113000
DTSTAMP:20260424T233450
CREATED:20230809T172837Z
LAST-MODIFIED:20230809T172837Z
UID:1301-1692352800-1692358200@feldalinggiu.nadi.my
SUMMARY:STEM IoT : Projek Kereta DIY
DESCRIPTION:
URL:https://feldalinggiu.nadi.my/event/stem-iot-projek-kereta-diy-2/
LOCATION:PEDi Felda Linggiu\, PEDi Felda Linggiu
CATEGORIES:DEFAULT
END:VEVENT
BEGIN:VEVENT
DTSTART;TZID=UTC:20230818T100000
DTEND;TZID=UTC:20230818T113000
DTSTAMP:20260424T233450
CREATED:20230809T172837Z
LAST-MODIFIED:20230809T172837Z
UID:1160-1692352800-1692358200@feldalinggiu.nadi.my
SUMMARY:STEM IoT : Projek Kereta DIY
DESCRIPTION:
URL:https://feldalinggiu.nadi.my/event/stem-iot-projek-kereta-diy/
LOCATION:PEDi Felda Linggiu\, PEDi Felda Linggiu
CATEGORIES:DEFAULT
END:VEVENT
BEGIN:VEVENT
DTSTART;TZID=UTC:20230817T090000
DTEND;TZID=UTC:20230817T170000
DTSTAMP:20260424T233450
CREATED:20230816T161848Z
LAST-MODIFIED:20230816T161848Z
UID:1304-1692262800-1692291600@feldalinggiu.nadi.my
SUMMARY:Usahawan : Program e-Usahawan (MDEC x PUJB)
DESCRIPTION:DAFTAR SEKARANG ?? https://rb.gy/9phrbj
URL:https://feldalinggiu.nadi.my/event/usahawan-program-e-usahawan-mdec-x-pujb-2/
LOCATION:ONLINE\, ONLINE
CATEGORIES:DEFAULT
ATTACH;FMTTYPE=image/jpeg:https://feldalinggiu.nadi.my/wp-content/uploads/2023/08/ekelas-usahawan.jpg
END:VEVENT
BEGIN:VEVENT
DTSTART;TZID=UTC:20230817T090000
DTEND;TZID=UTC:20230817T170000
DTSTAMP:20260424T233450
CREATED:20230816T161848Z
LAST-MODIFIED:20230816T161848Z
UID:1165-1692262800-1692291600@feldalinggiu.nadi.my
SUMMARY:Usahawan : Program e-Usahawan (MDEC x PUJB)
DESCRIPTION:DAFTAR SEKARANG ?? https://rb.gy/9phrbj
URL:https://feldalinggiu.nadi.my/event/usahawan-program-e-usahawan-mdec-x-pujb/
LOCATION:ONLINE\, ONLINE
CATEGORIES:DEFAULT
ATTACH;FMTTYPE=image/jpeg:https://feldalinggiu.nadi.my/wp-content/uploads/2023/08/ekelas-usahawan.jpg
END:VEVENT
BEGIN:VEVENT
DTSTART;TZID=UTC:20230810T100000
DTEND;TZID=UTC:20230810T113000
DTSTAMP:20260424T233450
CREATED:20230728T122238Z
LAST-MODIFIED:20230728T122238Z
UID:1152-1691661600-1691667000@feldalinggiu.nadi.my
SUMMARY:ICT : Bengkel Penulisan Novel
DESCRIPTION:
URL:https://feldalinggiu.nadi.my/event/ict-bengkel-penulisan-novel/
LOCATION:PEDi Felda Linggiu\, PEDi Felda Linggiu
CATEGORIES:DEFAULT
END:VEVENT
BEGIN:VEVENT
DTSTART;TZID=UTC:20230809T150000
DTEND;TZID=UTC:20230809T163000
DTSTAMP:20260424T233450
CREATED:20230809T172448Z
LAST-MODIFIED:20230809T172448Z
UID:1159-1691593200-1691598600@feldalinggiu.nadi.my
SUMMARY:e-Learning : e-Latihan Kumon Matematik
DESCRIPTION:
URL:https://feldalinggiu.nadi.my/event/e-learning-e-latihan-kumon-matematik/
LOCATION:PEDi Felda Linggiu\, PEDi Felda Linggiu
CATEGORIES:DEFAULT
END:VEVENT
BEGIN:VEVENT
DTSTART;TZID=UTC:20230808T110000
DTEND;TZID=UTC:20230808T120000
DTSTAMP:20260424T233450
CREATED:20230802T153420Z
LAST-MODIFIED:20230802T153420Z
UID:1157-1691492400-1691496000@feldalinggiu.nadi.my
SUMMARY:STEM IoT : Projek Catapult DIY
DESCRIPTION:
URL:https://feldalinggiu.nadi.my/event/stem-iot-projek-catapult-diy/
LOCATION:PEDi Felda Linggiu\, PEDi Felda Linggiu
CATEGORIES:DEFAULT
END:VEVENT
BEGIN:VEVENT
DTSTART;TZID=UTC:20230807T103000
DTEND;TZID=UTC:20230807T113000
DTSTAMP:20260424T233450
CREATED:20230728T103518Z
LAST-MODIFIED:20230728T103518Z
UID:1151-1691404200-1691407800@feldalinggiu.nadi.my
SUMMARY:ICT : Kelas Tutorial Membuat Surat Rasmi
DESCRIPTION:
URL:https://feldalinggiu.nadi.my/event/ict-kelas-tutorial-membuat-surat-rasmi/
LOCATION:PEDi Felda Linggiu\, PEDi Felda Linggiu
CATEGORIES:DEFAULT
END:VEVENT
BEGIN:VEVENT
DTSTART;TZID=UTC:20230806T093000
DTEND;TZID=UTC:20230806T123000
DTSTAMP:20260424T233450
CREATED:20230801T110817Z
LAST-MODIFIED:20230801T110817Z
UID:1154-1691314200-1691325000@feldalinggiu.nadi.my
SUMMARY:Usahawan : Kursus Latihan Pengendali Makanan (KLPM)
DESCRIPTION:
URL:https://feldalinggiu.nadi.my/event/usahawan-kursus-latihan-pengendali-makanan-klpm/
LOCATION:ONLINE\, ONLINE
CATEGORIES:DEFAULT
ATTACH;FMTTYPE=image/jpeg:https://feldalinggiu.nadi.my/wp-content/uploads/2023/08/klpm.jpeg
END:VEVENT
BEGIN:VEVENT
DTSTART;TZID=UTC:20230803T100000
DTEND;TZID=UTC:20230803T113000
DTSTAMP:20260424T233450
CREATED:20230801T120307Z
LAST-MODIFIED:20230801T120307Z
UID:1155-1691056800-1691062200@feldalinggiu.nadi.my
SUMMARY:Soft Skill : Kemahiran Menghafal Doa Harian
DESCRIPTION:
URL:https://feldalinggiu.nadi.my/event/soft-skill-kemahiran-menghafal-doa-harian/
LOCATION:PEDi Felda Linggiu\, PEDi Felda Linggiu
CATEGORIES:DEFAULT
END:VEVENT
BEGIN:VEVENT
DTSTART;TZID=UTC:20230802T140000
DTEND;TZID=UTC:20230802T170000
DTSTAMP:20260424T233450
CREATED:20230719T032430Z
LAST-MODIFIED:20230719T032430Z
UID:1147-1690984800-1690995600@feldalinggiu.nadi.my
SUMMARY:Usahawan : Reka Profil Perniagaan di Google Business
DESCRIPTION:
URL:https://feldalinggiu.nadi.my/event/usahawan-reka-profil-perniagaan-di-google-business/
LOCATION:PEDi Felda Linggiu\, PEDi Felda Linggiu
CATEGORIES:DEFAULT
END:VEVENT
BEGIN:VEVENT
DTSTART;TZID=UTC:20230801T100000
DTEND;TZID=UTC:20230801T113000
DTSTAMP:20260424T233450
CREATED:20230719T032600Z
LAST-MODIFIED:20230719T032600Z
UID:1148-1690884000-1690889400@feldalinggiu.nadi.my
SUMMARY:E-Learning : Penggunaan Fonic Dalam Pembelajaran
DESCRIPTION:
URL:https://feldalinggiu.nadi.my/event/e-learning-penggunaan-fonic-dalam-pembelajaran/
LOCATION:PEDi Felda Linggiu\, PEDi Felda Linggiu
CATEGORIES:DEFAULT
END:VEVENT
BEGIN:VEVENT
DTSTART;TZID=UTC:20230731T100000
DTEND;TZID=UTC:20230731T110000
DTSTAMP:20260424T233450
CREATED:20230727T112954Z
LAST-MODIFIED:20230727T112954Z
UID:1150-1690797600-1690801200@feldalinggiu.nadi.my
SUMMARY:Taklimat Pendaftaran Perniagaan SSM Percuma Dengan SPPP
DESCRIPTION:Hubungi nombor tertera untuk menyemak kelayakan pendaftaran SSM secara percuma
URL:https://feldalinggiu.nadi.my/event/taklimat-pendaftaran-perniagaan-ssm-percuma-dengan-sppp/
LOCATION:ONLINE\, ONLINE
CATEGORIES:DEFAULT
ATTACH;FMTTYPE=image/jpeg:https://feldalinggiu.nadi.my/wp-content/uploads/2023/07/SSM.jpeg
END:VEVENT
BEGIN:VEVENT
DTSTART;TZID=UTC:20230722T164500
DTEND;TZID=UTC:20230722T174500
DTSTAMP:20260424T233450
CREATED:20230707T105250Z
LAST-MODIFIED:20230707T105250Z
UID:1137-1690044300-1690047900@feldalinggiu.nadi.my
SUMMARY:E-Learning : Penguasaan Bahasa Jepun
DESCRIPTION:
URL:https://feldalinggiu.nadi.my/event/e-learning-penguasaan-bahasa-jepun-2/
LOCATION:ONLINE\, ONLINE
CATEGORIES:DEFAULT
ATTACH;FMTTYPE=image/jpeg:https://feldalinggiu.nadi.my/wp-content/uploads/2023/07/JEPUN-JULAI-2023.jpg
END:VEVENT
BEGIN:VEVENT
DTSTART;TZID=UTC:20230720T110000
DTEND;TZID=UTC:20230720T123000
DTSTAMP:20260424T233450
CREATED:20230710T123809Z
LAST-MODIFIED:20230710T123809Z
UID:1142-1689850800-1689856200@feldalinggiu.nadi.my
SUMMARY:Pameran STEM IoT Bersama Pelajar Tadika KEMAS Felda Linggiu
DESCRIPTION:
URL:https://feldalinggiu.nadi.my/event/pameran-stem-iot-bersama-pelajar-tadika-kemas-felda-linggiu/
LOCATION:PEDi Felda Linggiu\, PEDi Felda Linggiu
CATEGORIES:DEFAULT
END:VEVENT
BEGIN:VEVENT
DTSTART;TZID=UTC:20230720T093000
DTEND;TZID=UTC:20230720T110000
DTSTAMP:20260424T233450
CREATED:20230710T123714Z
LAST-MODIFIED:20230710T123714Z
UID:1141-1689845400-1689850800@feldalinggiu.nadi.my
SUMMARY:Kuiz Online Kahoot Bersama Pelajar Tadika KEMAS Felda Linggiu
DESCRIPTION:
URL:https://feldalinggiu.nadi.my/event/kuiz-online-kahoot-bersama-pelajar-tadika-kemas-felda-linggiu/
LOCATION:PEDi Felda Linggiu\, PEDi Felda Linggiu
CATEGORIES:DEFAULT
END:VEVENT
BEGIN:VEVENT
DTSTART;TZID=UTC:20230718T150000
DTEND;TZID=UTC:20230718T160000
DTSTAMP:20260424T233450
CREATED:20230715T120859Z
LAST-MODIFIED:20230715T120859Z
UID:1146-1689692400-1689696000@feldalinggiu.nadi.my
SUMMARY:STEM IoT : Lantern DIY
DESCRIPTION:
URL:https://feldalinggiu.nadi.my/event/stem-iot-lantern-diy/
LOCATION:PEDi Felda Linggiu\, PEDi Felda Linggiu
CATEGORIES:DEFAULT
END:VEVENT
BEGIN:VEVENT
DTSTART;TZID=UTC:20230718T100000
DTEND;TZID=UTC:20230718T110000
DTSTAMP:20260424T233450
CREATED:20230706T101631Z
LAST-MODIFIED:20230706T101631Z
UID:1134-1689674400-1689678000@feldalinggiu.nadi.my
SUMMARY:Akses Pembiayaan TEKUN Nasional
DESCRIPTION:Hubungi kami sekiranya berminat
URL:https://feldalinggiu.nadi.my/event/akses-pembiayaan-tekun-nasional/
LOCATION:ONLINE\, ONLINE
CATEGORIES:DEFAULT
END:VEVENT
BEGIN:VEVENT
DTSTART;TZID=UTC:20230716T090000
DTEND;TZID=UTC:20230716T130000
DTSTAMP:20260424T233450
CREATED:20230708T164147Z
LAST-MODIFIED:20230708T164147Z
UID:1140-1689498000-1689512400@feldalinggiu.nadi.my
SUMMARY:Kursus Pengenalan Teknologi Retort
DESCRIPTION:PEDi MEMBUKA PENYERTAAN KEPADA KOMUNITI
URL:https://feldalinggiu.nadi.my/event/kursus-pengenalan-teknologi-retort/
LOCATION:BILIK SEMINAR\, PEJABAT PERTANIAN KOTA TINGGI\, SUNGAI TELOR\, BILIK SEMINAR\, PEJABAT PERTANIAN KOTA TINGGI\, SUNGAI TELOR
CATEGORIES:DEFAULT
ATTACH;FMTTYPE=image/jpeg:https://feldalinggiu.nadi.my/wp-content/uploads/2023/07/KURSUS-RETORT.jpg
END:VEVENT
BEGIN:VEVENT
DTSTART;TZID=UTC:20230715T093000
DTEND;TZID=UTC:20230715T123000
DTSTAMP:20260424T233450
CREATED:20230713T115625Z
LAST-MODIFIED:20230713T115625Z
UID:1144-1689413400-1689424200@feldalinggiu.nadi.my
SUMMARY:Kursus Latihan Pengendali Makanan
DESCRIPTION:
URL:https://feldalinggiu.nadi.my/event/kursus-latihan-pengendali-makanan-2/
LOCATION:ONLINE\, ONLINE
CATEGORIES:DEFAULT
ATTACH;FMTTYPE=image/jpeg:https://feldalinggiu.nadi.my/wp-content/uploads/2023/07/KLPM.jpeg
END:VEVENT
BEGIN:VEVENT
DTSTART;TZID=UTC:20230714T113000
DTEND;TZID=UTC:20230714T123000
DTSTAMP:20260424T233450
CREATED:20230714T170138Z
LAST-MODIFIED:20230714T170138Z
UID:1145-1689334200-1689337800@feldalinggiu.nadi.my
SUMMARY:Kelas Tutorial Invois Digital
DESCRIPTION:
URL:https://feldalinggiu.nadi.my/event/kelas-tutorial-invois-digital/
LOCATION:PEDi Felda Linggiu\, PEDi Felda Linggiu
CATEGORIES:DEFAULT
END:VEVENT
BEGIN:VEVENT
DTSTART;TZID=UTC:20230714T100000
DTEND;TZID=UTC:20230714T113000
DTSTAMP:20260424T233450
CREATED:20230628T130914Z
LAST-MODIFIED:20230628T130914Z
UID:1129-1689328800-1689334200@feldalinggiu.nadi.my
SUMMARY:Kelas Tiktok Affiliate
DESCRIPTION:
URL:https://feldalinggiu.nadi.my/event/kelas-tiktok-affiliate/
LOCATION:PEDi Felda Linggiu\, PEDi Felda Linggiu
CATEGORIES:DEFAULT
END:VEVENT
BEGIN:VEVENT
DTSTART;TZID=UTC:20230708T164500
DTEND;TZID=UTC:20230708T174500
DTSTAMP:20260424T233450
CREATED:20230707T105147Z
LAST-MODIFIED:20230707T105147Z
UID:1136-1688834700-1688838300@feldalinggiu.nadi.my
SUMMARY:e-Learning : Penguasaan Bahasa Jepun
DESCRIPTION:
URL:https://feldalinggiu.nadi.my/event/e-learning-penguasaan-bahasa-jepun/
LOCATION:ONLINE\, ONLINE
CATEGORIES:DEFAULT
ATTACH;FMTTYPE=image/jpeg:https://feldalinggiu.nadi.my/wp-content/uploads/2023/07/JEPUN-JULAI-2023.jpg
END:VEVENT
BEGIN:VEVENT
DTSTART;TZID=UTC:20230705T100000
DTEND;TZID=UTC:20230705T120000
DTSTAMP:20260424T233450
CREATED:20230628T131127Z
LAST-MODIFIED:20230628T131127Z
UID:1130-1688551200-1688558400@feldalinggiu.nadi.my
SUMMARY:e-Learning : Trainocate Google Gemilang Programme
DESCRIPTION:
URL:https://feldalinggiu.nadi.my/event/e-learning-trainocate-google-gemilang-programme/
LOCATION:PEDi Felda Linggiu\, PEDi Felda Linggiu
CATEGORIES:DEFAULT
END:VEVENT
BEGIN:VEVENT
DTSTART;TZID=UTC:20230704T110000
DTEND;TZID=UTC:20230704T112000
DTSTAMP:20260424T233450
CREATED:20230704T134648Z
LAST-MODIFIED:20230704T134648Z
UID:1132-1688468400-1688469600@feldalinggiu.nadi.my
SUMMARY:Soft Skills - Kemahiran Mendengar Arahan Dengan Betul
DESCRIPTION:
URL:https://feldalinggiu.nadi.my/event/soft-skills-kemahiran-mendengar-arahan-dengan-betul/
LOCATION:PEDi Felda Linggiu\, PEDi Felda Linggiu
CATEGORIES:DEFAULT
END:VEVENT
BEGIN:VEVENT
DTSTART;TZID=UTC:20230704T103000
DTEND;TZID=UTC:20230704T110000
DTSTAMP:20260424T233450
CREATED:20230704T134553Z
LAST-MODIFIED:20230704T134553Z
UID:1131-1688466600-1688468400@feldalinggiu.nadi.my
SUMMARY:Soft Skills - Kemahiran Memberi Fokus
DESCRIPTION:
URL:https://feldalinggiu.nadi.my/event/soft-skills-kemahiran-memberi-fokus/
LOCATION:PEDi Felda Linggiu\, PEDi Felda Linggiu
CATEGORIES:DEFAULT
END:VEVENT
BEGIN:VEVENT
DTSTART;TZID=UTC:20230704T094500
DTEND;TZID=UTC:20230704T101500
DTSTAMP:20260424T233450
CREATED:20230628T130531Z
LAST-MODIFIED:20230628T130531Z
UID:1127-1688463900-1688465700@feldalinggiu.nadi.my
SUMMARY:Projek Stem IoT Bersama Pelajar Pusat Literasi Felda Linggiu
DESCRIPTION:
URL:https://feldalinggiu.nadi.my/event/projek-stem-iot-bersama-pelajar-pusat-literasi-felda-linggiu/
LOCATION:PEDi Felda Linggiu\, PEDi Felda Linggiu
CATEGORIES:DEFAULT
END:VEVENT
BEGIN:VEVENT
DTSTART;TZID=UTC:20230704T090000
DTEND;TZID=UTC:20230704T094500
DTSTAMP:20260424T233450
CREATED:20230628T130651Z
LAST-MODIFIED:20230628T130651Z
UID:1128-1688461200-1688463900@feldalinggiu.nadi.my
SUMMARY:Kuiz Online Kahoot Bersama Pelajar Pusat Literasi Felda Linggiu
DESCRIPTION:
URL:https://feldalinggiu.nadi.my/event/kuiz-online-kahoot-bersama-pelajar-pusat-literasi-felda-linggiu/
LOCATION:PEDi Felda Linggiu\, PEDi Felda Linggiu
CATEGORIES:DEFAULT
END:VEVENT
BEGIN:VEVENT
DTSTART;TZID=UTC:20230703T140000
DTEND;TZID=UTC:20230703T170000
DTSTAMP:20260424T233450
CREATED:20230628T130310Z
LAST-MODIFIED:20230628T130310Z
UID:1126-1688392800-1688403600@feldalinggiu.nadi.my
SUMMARY:Kelas Usahawan - Reka Profil Perniagaan di Google Business
DESCRIPTION:
URL:https://feldalinggiu.nadi.my/event/kelas-usahawan-reka-profil-perniagaan-di-google-business/
LOCATION:PEDi Felda Linggiu\, PEDi Felda Linggiu
CATEGORIES:DEFAULT
END:VEVENT
END:VCALENDAR