BEGIN:VCALENDAR
VERSION:2.0
PRODID:-//NADI Felda Linggiu - ECPv6.15.20//NONSGML v1.0//EN
CALSCALE:GREGORIAN
METHOD:PUBLISH
X-WR-CALNAME:NADI Felda Linggiu
X-ORIGINAL-URL:https://feldalinggiu.nadi.my
X-WR-CALDESC:Events for NADI Felda Linggiu
REFRESH-INTERVAL;VALUE=DURATION:PT1H
X-Robots-Tag:noindex
X-PUBLISHED-TTL:PT1H
BEGIN:VTIMEZONE
TZID:UTC
BEGIN:STANDARD
TZOFFSETFROM:+0000
TZOFFSETTO:+0000
TZNAME:UTC
DTSTART:20230101T000000
END:STANDARD
END:VTIMEZONE
BEGIN:VEVENT
DTSTART;TZID=UTC:20240206T090000
DTEND;TZID=UTC:20240206T130000
DTSTAMP:20260424T120932
CREATED:20240131T154127Z
LAST-MODIFIED:20240131T154127Z
UID:1385-1707210000-1707224400@feldalinggiu.nadi.my
SUMMARY:Usahawan : Kursus Asas Tanaman Secara Fertigasi
DESCRIPTION:
URL:https://feldalinggiu.nadi.my/event/usahawan-kursus-asas-tanaman-secara-fertigasi-2/
LOCATION:Bangunan Persatuan Aktiviti Warga Emas (PAWE)\, Felda Air Tawar 3\, Kota Tinggi\, Bangunan Persatuan Aktiviti Warga Emas (PAWE)\, Felda Air Tawar 3\, Kota Tinggi
CATEGORIES:DEFAULT
ATTACH;FMTTYPE=image/jpeg:https://feldalinggiu.nadi.my/wp-content/uploads/2024/01/423132347_687273543576069_4710274766284213059_n.jpg
END:VEVENT
BEGIN:VEVENT
DTSTART;TZID=UTC:20240206T090000
DTEND;TZID=UTC:20240206T130000
DTSTAMP:20260424T120932
CREATED:20240131T154127Z
LAST-MODIFIED:20240131T154127Z
UID:1258-1707210000-1707224400@feldalinggiu.nadi.my
SUMMARY:Usahawan : Kursus Asas Tanaman Secara Fertigasi
DESCRIPTION:
URL:https://feldalinggiu.nadi.my/event/usahawan-kursus-asas-tanaman-secara-fertigasi/
LOCATION:Bangunan Persatuan Aktiviti Warga Emas (PAWE)\, Felda Air Tawar 3\, Kota Tinggi\, Bangunan Persatuan Aktiviti Warga Emas (PAWE)\, Felda Air Tawar 3\, Kota Tinggi
CATEGORIES:DEFAULT
ATTACH;FMTTYPE=image/jpeg:https://feldalinggiu.nadi.my/wp-content/uploads/2024/01/423132347_687273543576069_4710274766284213059_n.jpg
END:VEVENT
BEGIN:VEVENT
DTSTART;TZID=UTC:20240206T090000
DTEND;TZID=UTC:20240206T180000
DTSTAMP:20260424T120932
CREATED:20240131T153840Z
LAST-MODIFIED:20240131T153840Z
UID:1384-1707210000-1707242400@feldalinggiu.nadi.my
SUMMARY:Usahawan : Kaunter Bantuan Permohonan Skim Bantuan Peralatan Perniagaan
DESCRIPTION:
URL:https://feldalinggiu.nadi.my/event/usahawan-kaunter-bantuan-permohonan-skim-bantuan-peralatan-perniagaan-2/
LOCATION:PEDi Felda Linggiu\, PEDi Felda Linggiu
CATEGORIES:DEFAULT
ATTACH;FMTTYPE=image/jpeg:https://feldalinggiu.nadi.my/wp-content/uploads/2024/02/WhatsApp-Image-2024-01-24-at-11.40.56.jpeg
END:VEVENT
BEGIN:VEVENT
DTSTART;TZID=UTC:20240206T090000
DTEND;TZID=UTC:20240206T180000
DTSTAMP:20260424T120932
CREATED:20240131T153840Z
LAST-MODIFIED:20240131T153840Z
UID:1255-1707210000-1707242400@feldalinggiu.nadi.my
SUMMARY:Usahawan : Kaunter Bantuan Permohonan Skim Bantuan Peralatan Perniagaan
DESCRIPTION:
URL:https://feldalinggiu.nadi.my/event/usahawan-kaunter-bantuan-permohonan-skim-bantuan-peralatan-perniagaan/
LOCATION:PEDi Felda Linggiu\, PEDi Felda Linggiu
CATEGORIES:DEFAULT
ATTACH;FMTTYPE=image/jpeg:https://feldalinggiu.nadi.my/wp-content/uploads/2024/02/WhatsApp-Image-2024-01-24-at-11.40.56.jpeg
END:VEVENT
BEGIN:VEVENT
DTSTART;TZID=UTC:20240214T090000
DTEND;TZID=UTC:20240214T140000
DTSTAMP:20260424T120932
CREATED:20240206T123000Z
LAST-MODIFIED:20240206T123000Z
UID:1386-1707901200-1707919200@feldalinggiu.nadi.my
SUMMARY:Usahawan : Kursus Keperluan Makanan Sediaan Dirumah (Home Based Food)
DESCRIPTION:KUOTA : 30 PESERTA\nDaftar di link ini : https://forms.gle/atMYc76gX5719u3T8
URL:https://feldalinggiu.nadi.my/event/usahawan-kursus-keperluan-makanan-sediaan-dirumah-home-based-food-2/
LOCATION:BILIK SEMINAR\, PEJABAT PERTANIAN KAWASAN SG TELOR\, JALAN KOTA TINGGI – KULAI\, 81900 KOTA TINGGI\, JOHOR\, BILIK SEMINAR\, PEJABAT PERTANIAN KAWASAN SG TELOR\, JALAN KOTA TINGGI - KULAI\, 81900 KOTA TINGGI\, JOHOR
CATEGORIES:DEFAULT
ATTACH;FMTTYPE=image/jpeg:https://feldalinggiu.nadi.my/wp-content/uploads/2024/02/425835901_691266129843477_6686522501471752156_n.jpg
END:VEVENT
BEGIN:VEVENT
DTSTART;TZID=UTC:20240214T090000
DTEND;TZID=UTC:20240214T140000
DTSTAMP:20260424T120932
CREATED:20240206T123000Z
LAST-MODIFIED:20240206T123000Z
UID:1260-1707901200-1707919200@feldalinggiu.nadi.my
SUMMARY:Usahawan : Kursus Keperluan Makanan Sediaan Dirumah (Home Based Food)
DESCRIPTION:KUOTA : 30 PESERTA\nDaftar di link ini : https://forms.gle/atMYc76gX5719u3T8
URL:https://feldalinggiu.nadi.my/event/usahawan-kursus-keperluan-makanan-sediaan-dirumah-home-based-food/
LOCATION:BILIK SEMINAR\, PEJABAT PERTANIAN KAWASAN SG TELOR\, JALAN KOTA TINGGI – KULAI\, 81900 KOTA TINGGI\, JOHOR\, BILIK SEMINAR\, PEJABAT PERTANIAN KAWASAN SG TELOR\, JALAN KOTA TINGGI - KULAI\, 81900 KOTA TINGGI\, JOHOR
CATEGORIES:DEFAULT
ATTACH;FMTTYPE=image/jpeg:https://feldalinggiu.nadi.my/wp-content/uploads/2024/02/425835901_691266129843477_6686522501471752156_n.jpg
END:VEVENT
BEGIN:VEVENT
DTSTART;TZID=UTC:20240219T090000
DTEND;TZID=UTC:20240219T130000
DTSTAMP:20260424T120932
CREATED:20240213T124231Z
LAST-MODIFIED:20240213T124231Z
UID:1388-1708333200-1708347600@feldalinggiu.nadi.my
SUMMARY:Usahawan : Kursus Penyediaan Dokumen Pensijilan MYGAP & MyOrganic
DESCRIPTION:
URL:https://feldalinggiu.nadi.my/event/usahawan-kursus-penyediaan-dokumen-pensijilan-mygap-myorganic-2/
LOCATION:BILIK SEMINAR\, PEJABAT PERTANIAN KAWASAN SG TELOR\, JALAN KOTA TINGGI – KULAI\, 81900 KOTA TINGGI\, JOHOR\, BILIK SEMINAR\, PEJABAT PERTANIAN KAWASAN SG TELOR\, JALAN KOTA TINGGI - KULAI\, 81900 KOTA TINGGI\, JOHOR
CATEGORIES:DEFAULT
ATTACH;FMTTYPE=image/jpeg:https://feldalinggiu.nadi.my/wp-content/uploads/2024/02/428226299_695492832754140_4029413566475996258_n.jpg
END:VEVENT
BEGIN:VEVENT
DTSTART;TZID=UTC:20240219T090000
DTEND;TZID=UTC:20240219T130000
DTSTAMP:20260424T120932
CREATED:20240213T124231Z
LAST-MODIFIED:20240213T124231Z
UID:1263-1708333200-1708347600@feldalinggiu.nadi.my
SUMMARY:Usahawan : Kursus Penyediaan Dokumen Pensijilan MYGAP & MyOrganic
DESCRIPTION:
URL:https://feldalinggiu.nadi.my/event/usahawan-kursus-penyediaan-dokumen-pensijilan-mygap-myorganic/
LOCATION:BILIK SEMINAR\, PEJABAT PERTANIAN KAWASAN SG TELOR\, JALAN KOTA TINGGI – KULAI\, 81900 KOTA TINGGI\, JOHOR\, BILIK SEMINAR\, PEJABAT PERTANIAN KAWASAN SG TELOR\, JALAN KOTA TINGGI - KULAI\, 81900 KOTA TINGGI\, JOHOR
CATEGORIES:DEFAULT
ATTACH;FMTTYPE=image/jpeg:https://feldalinggiu.nadi.my/wp-content/uploads/2024/02/428226299_695492832754140_4029413566475996258_n.jpg
END:VEVENT
BEGIN:VEVENT
DTSTART;TZID=UTC:20240229T080000
DTEND;TZID=UTC:20240229T170000
DTSTAMP:20260424T120932
CREATED:20240206T171448Z
LAST-MODIFIED:20240206T171448Z
UID:1387-1709193600-1709226000@feldalinggiu.nadi.my
SUMMARY:Usahawan : Kursus Kaedah Pembajaan Yang Effisen
DESCRIPTION:perlu pra-pendaftaran (masuk waiting list) kerana pendaftaran terlampau laju dan penyertaan cepat penuh
URL:https://feldalinggiu.nadi.my/event/usahawan-kursus-kaedah-pembajaan-yang-effisen-2/
LOCATION:TBU\, TBU
CATEGORIES:DEFAULT
END:VEVENT
BEGIN:VEVENT
DTSTART;TZID=UTC:20240229T080000
DTEND;TZID=UTC:20240229T170000
DTSTAMP:20260424T120932
CREATED:20240206T171448Z
LAST-MODIFIED:20240206T171448Z
UID:1262-1709193600-1709226000@feldalinggiu.nadi.my
SUMMARY:Usahawan : Kursus Kaedah Pembajaan Yang Effisen
DESCRIPTION:perlu pra-pendaftaran (masuk waiting list) kerana pendaftaran terlampau laju dan penyertaan cepat penuh
URL:https://feldalinggiu.nadi.my/event/usahawan-kursus-kaedah-pembajaan-yang-effisen/
LOCATION:TBU\, TBU
CATEGORIES:DEFAULT
END:VEVENT
END:VCALENDAR