BEGIN:VCALENDAR
VERSION:2.0
PRODID:-//NADI Felda Linggiu - ECPv6.15.20//NONSGML v1.0//EN
CALSCALE:GREGORIAN
METHOD:PUBLISH
X-WR-CALNAME:NADI Felda Linggiu
X-ORIGINAL-URL:https://feldalinggiu.nadi.my
X-WR-CALDESC:Events for NADI Felda Linggiu
REFRESH-INTERVAL;VALUE=DURATION:PT1H
X-Robots-Tag:noindex
X-PUBLISHED-TTL:PT1H
BEGIN:VTIMEZONE
TZID:UTC
BEGIN:STANDARD
TZOFFSETFROM:+0000
TZOFFSETTO:+0000
TZNAME:UTC
DTSTART:20230101T000000
END:STANDARD
END:VTIMEZONE
BEGIN:VEVENT
DTSTART;TZID=UTC:20240306T090000
DTEND;TZID=UTC:20240306T130000
DTSTAMP:20260423T230652
CREATED:20240229T104011Z
LAST-MODIFIED:20240229T104011Z
UID:1390-1709715600-1709730000@feldalinggiu.nadi.my
SUMMARY:Usahawan : Kursus Pembajaan Tanaman Efisyen
DESCRIPTION:
URL:https://feldalinggiu.nadi.my/event/usahawan-kursus-pembajaan-tanaman-efisyen-2/
LOCATION:BILIK SEMINAR\, PEJABAT PERTANIAN KAWASAN SG TELOR\, JALAN KOTA TINGGI – KULAI\, 81900 KOTA TINGGI\, JOHOR\, BILIK SEMINAR\, PEJABAT PERTANIAN KAWASAN SG TELOR\, JALAN KOTA TINGGI - KULAI\, 81900 KOTA TINGGI\, JOHOR
CATEGORIES:DEFAULT
ATTACH;FMTTYPE=image/jpeg:https://feldalinggiu.nadi.my/wp-content/uploads/2024/02/PEMBAJAAN.jpg
END:VEVENT
BEGIN:VEVENT
DTSTART;TZID=UTC:20240306T090000
DTEND;TZID=UTC:20240306T130000
DTSTAMP:20260423T230652
CREATED:20240229T104011Z
LAST-MODIFIED:20240229T104011Z
UID:1266-1709715600-1709730000@feldalinggiu.nadi.my
SUMMARY:Usahawan : Kursus Pembajaan Tanaman Efisyen
DESCRIPTION:
URL:https://feldalinggiu.nadi.my/event/usahawan-kursus-pembajaan-tanaman-efisyen/
LOCATION:BILIK SEMINAR\, PEJABAT PERTANIAN KAWASAN SG TELOR\, JALAN KOTA TINGGI – KULAI\, 81900 KOTA TINGGI\, JOHOR\, BILIK SEMINAR\, PEJABAT PERTANIAN KAWASAN SG TELOR\, JALAN KOTA TINGGI - KULAI\, 81900 KOTA TINGGI\, JOHOR
CATEGORIES:DEFAULT
ATTACH;FMTTYPE=image/jpeg:https://feldalinggiu.nadi.my/wp-content/uploads/2024/02/PEMBAJAAN.jpg
END:VEVENT
BEGIN:VEVENT
DTSTART;TZID=UTC:20240306T090000
DTEND;TZID=UTC:20240306T130000
DTSTAMP:20260423T230652
CREATED:20240229T104605Z
LAST-MODIFIED:20240229T104605Z
UID:1391-1709715600-1709730000@feldalinggiu.nadi.my
SUMMARY:Usahawan : Kursus Seni Pastri
DESCRIPTION:
URL:https://feldalinggiu.nadi.my/event/usahawan-kursus-seni-pastri-2/
LOCATION:PEJABAT PERTANIAN MAWAI\, KOTA TINGGI\, PEJABAT PERTANIAN MAWAI\, KOTA TINGGI
CATEGORIES:DEFAULT
ATTACH;FMTTYPE=image/jpeg:https://feldalinggiu.nadi.my/wp-content/uploads/2024/02/PASTRI.jpg
END:VEVENT
BEGIN:VEVENT
DTSTART;TZID=UTC:20240306T090000
DTEND;TZID=UTC:20240306T130000
DTSTAMP:20260423T230652
CREATED:20240229T104605Z
LAST-MODIFIED:20240229T104605Z
UID:1268-1709715600-1709730000@feldalinggiu.nadi.my
SUMMARY:Usahawan : Kursus Seni Pastri
DESCRIPTION:
URL:https://feldalinggiu.nadi.my/event/usahawan-kursus-seni-pastri/
LOCATION:PEJABAT PERTANIAN MAWAI\, KOTA TINGGI\, PEJABAT PERTANIAN MAWAI\, KOTA TINGGI
CATEGORIES:DEFAULT
ATTACH;FMTTYPE=image/jpeg:https://feldalinggiu.nadi.my/wp-content/uploads/2024/02/PASTRI.jpg
END:VEVENT
BEGIN:VEVENT
DTSTART;TZID=UTC:20240307T090000
DTEND;TZID=UTC:20240307T130000
DTSTAMP:20260423T230652
CREATED:20240306T105638Z
LAST-MODIFIED:20240306T105638Z
UID:1392-1709802000-1709816400@feldalinggiu.nadi.my
SUMMARY:Usahawan : Kursus Kawalan Penyakit dan Perosak Cili
DESCRIPTION:
URL:https://feldalinggiu.nadi.my/event/usahawan-kursus-kawalan-penyakit-dan-perosak-cili-2/
LOCATION:BILIK SEMINAR\, PEJABAT PERTANIAN KAWASAN SG TELOR\, JALAN KOTA TINGGI – KULAI\, 81900 KOTA TINGGI\, JOHOR\, BILIK SEMINAR\, PEJABAT PERTANIAN KAWASAN SG TELOR\, JALAN KOTA TINGGI - KULAI\, 81900 KOTA TINGGI\, JOHOR
CATEGORIES:DEFAULT
ATTACH;FMTTYPE=image/jpeg:https://feldalinggiu.nadi.my/wp-content/uploads/2024/03/cili.jpg
END:VEVENT
BEGIN:VEVENT
DTSTART;TZID=UTC:20240307T090000
DTEND;TZID=UTC:20240307T130000
DTSTAMP:20260423T230652
CREATED:20240306T105638Z
LAST-MODIFIED:20240306T105638Z
UID:1269-1709802000-1709816400@feldalinggiu.nadi.my
SUMMARY:Usahawan : Kursus Kawalan Penyakit dan Perosak Cili
DESCRIPTION:
URL:https://feldalinggiu.nadi.my/event/usahawan-kursus-kawalan-penyakit-dan-perosak-cili/
LOCATION:BILIK SEMINAR\, PEJABAT PERTANIAN KAWASAN SG TELOR\, JALAN KOTA TINGGI – KULAI\, 81900 KOTA TINGGI\, JOHOR\, BILIK SEMINAR\, PEJABAT PERTANIAN KAWASAN SG TELOR\, JALAN KOTA TINGGI - KULAI\, 81900 KOTA TINGGI\, JOHOR
CATEGORIES:DEFAULT
ATTACH;FMTTYPE=image/jpeg:https://feldalinggiu.nadi.my/wp-content/uploads/2024/03/cili.jpg
END:VEVENT
BEGIN:VEVENT
DTSTART;TZID=UTC:20240307T100000
DTEND;TZID=UTC:20240307T153000
DTSTAMP:20260423T230652
CREATED:20240220T153343Z
LAST-MODIFIED:20240220T153343Z
UID:1389-1709805600-1709825400@feldalinggiu.nadi.my
SUMMARY:ICT : Kursus Google Form & e-Sijil
DESCRIPTION:Daftar di link ini : https://forms.gle/atMYc76gX5719u3T8
URL:https://feldalinggiu.nadi.my/event/ict-kursus-google-form-e-sijil-2/
LOCATION:Online (Zoom)\, Online (Zoom)
CATEGORIES:DEFAULT
ATTACH;FMTTYPE=image/png:https://feldalinggiu.nadi.my/wp-content/uploads/2024/02/KURSUS-GOOGLE-FORM-1.png
END:VEVENT
BEGIN:VEVENT
DTSTART;TZID=UTC:20240307T100000
DTEND;TZID=UTC:20240307T153000
DTSTAMP:20260423T230652
CREATED:20240220T153343Z
LAST-MODIFIED:20240220T153343Z
UID:1265-1709805600-1709825400@feldalinggiu.nadi.my
SUMMARY:ICT : Kursus Google Form & e-Sijil
DESCRIPTION:Daftar di link ini : https://forms.gle/atMYc76gX5719u3T8
URL:https://feldalinggiu.nadi.my/event/ict-kursus-google-form-e-sijil/
LOCATION:Online (Zoom)\, Online (Zoom)
CATEGORIES:DEFAULT
ATTACH;FMTTYPE=image/png:https://feldalinggiu.nadi.my/wp-content/uploads/2024/02/KURSUS-GOOGLE-FORM-1.png
END:VEVENT
BEGIN:VEVENT
DTSTART;TZID=UTC:20240316T100000
DTEND;TZID=UTC:20240316T113000
DTSTAMP:20260423T230652
CREATED:20240308T122809Z
LAST-MODIFIED:20240308T122809Z
UID:1393-1710583200-1710588600@feldalinggiu.nadi.my
SUMMARY:Soft Skill : Bengkel Penulisan Resume
DESCRIPTION:daftar : https://forms.gle/YcdkKXU4PcgMRKDu5
URL:https://feldalinggiu.nadi.my/event/soft-skill-bengkel-penulisan-resume-2/
LOCATION:NADI Felda Linggiu (Online)
CATEGORIES:DEFAULT
ATTACH;FMTTYPE=image/png:https://feldalinggiu.nadi.my/wp-content/uploads/2024/03/BENGKEL-PENULISAN-RESUME.png
END:VEVENT
BEGIN:VEVENT
DTSTART;TZID=UTC:20240316T100000
DTEND;TZID=UTC:20240316T113000
DTSTAMP:20260423T230652
CREATED:20240308T122809Z
LAST-MODIFIED:20240308T122809Z
UID:1271-1710583200-1710588600@feldalinggiu.nadi.my
SUMMARY:Soft Skill : Bengkel Penulisan Resume
DESCRIPTION:daftar : https://forms.gle/YcdkKXU4PcgMRKDu5
URL:https://feldalinggiu.nadi.my/event/soft-skill-bengkel-penulisan-resume/
LOCATION:NADI Felda Linggiu (Online)
CATEGORIES:DEFAULT
ATTACH;FMTTYPE=image/png:https://feldalinggiu.nadi.my/wp-content/uploads/2024/03/BENGKEL-PENULISAN-RESUME.png
END:VEVENT
END:VCALENDAR