BEGIN:VCALENDAR
VERSION:2.0
PRODID:-//NADI Felda Linggiu - ECPv6.15.13.1//NONSGML v1.0//EN
CALSCALE:GREGORIAN
METHOD:PUBLISH
X-WR-CALNAME:NADI Felda Linggiu
X-ORIGINAL-URL:https://feldalinggiu.nadi.my
X-WR-CALDESC:Events for NADI Felda Linggiu
REFRESH-INTERVAL;VALUE=DURATION:PT1H
X-Robots-Tag:noindex
X-PUBLISHED-TTL:PT1H
BEGIN:VTIMEZONE
TZID:UTC
BEGIN:STANDARD
TZOFFSETFROM:+0000
TZOFFSETTO:+0000
TZNAME:UTC
DTSTART:20230101T000000
END:STANDARD
END:VTIMEZONE
BEGIN:VEVENT
DTSTART;TZID=UTC:20240706T080000
DTEND;TZID=UTC:20240706T170000
DTSTAMP:20260422T035701
CREATED:20240702T142457Z
LAST-MODIFIED:20240702T142457Z
UID:1300-1720252800-1720285200@feldalinggiu.nadi.my
SUMMARY:ICT : Kursus Asas Smartphone Photography
DESCRIPTION:rujuk poster untuk segala butiran.. Daftar di link ini : https://forms.gle/atMYc76gX5719u3T8
URL:https://feldalinggiu.nadi.my/event/ict-kursus-asas-smartphone-photography/
LOCATION:Kolej Komuniti Bandar Tenggara\, Kolej Komuniti Bandar Tenggara
CATEGORIES:DEFAULT
ATTACH;FMTTYPE=image/jpeg:https://feldalinggiu.nadi.my/wp-content/uploads/2024/07/WhatsApp-Image-2024-06-20-at-9.15.19-PM.jpeg
END:VEVENT
BEGIN:VEVENT
DTSTART;TZID=UTC:20240706T080000
DTEND;TZID=UTC:20240706T170000
DTSTAMP:20260422T035701
CREATED:20240702T142457Z
LAST-MODIFIED:20240702T142457Z
UID:1413-1720252800-1720285200@feldalinggiu.nadi.my
SUMMARY:ICT : Kursus Asas Smartphone Photography
DESCRIPTION:rujuk poster untuk segala butiran.. Daftar di link ini : https://forms.gle/atMYc76gX5719u3T8
URL:https://feldalinggiu.nadi.my/event/ict-kursus-asas-smartphone-photography-2/
LOCATION:Kolej Komuniti Bandar Tenggara\, Kolej Komuniti Bandar Tenggara
CATEGORIES:DEFAULT
ATTACH;FMTTYPE=image/jpeg:https://feldalinggiu.nadi.my/wp-content/uploads/2024/07/WhatsApp-Image-2024-06-20-at-9.15.19-PM.jpeg
END:VEVENT
BEGIN:VEVENT
DTSTART;TZID=UTC:20240714T093000
DTEND;TZID=UTC:20240714T123000
DTSTAMP:20260422T035701
CREATED:20240702T142133Z
LAST-MODIFIED:20240702T142133Z
UID:1299-1720949400-1720960200@feldalinggiu.nadi.my
SUMMARY:Usahawan : Kursus Latihan Pengendali Makanan (KLPM)
DESCRIPTION:Sijil dikeluarkan oleh KKM
URL:https://feldalinggiu.nadi.my/event/usahawan-kursus-latihan-pengendali-makanan-klpm-3/
LOCATION:NADI Felda Linggiu (Online)
CATEGORIES:DEFAULT
ATTACH;FMTTYPE=image/jpeg:https://feldalinggiu.nadi.my/wp-content/uploads/2024/07/WhatsApp-Image-2024-07-04-at-5.49.24-PM.jpeg
END:VEVENT
BEGIN:VEVENT
DTSTART;TZID=UTC:20240714T093000
DTEND;TZID=UTC:20240714T123000
DTSTAMP:20260422T035701
CREATED:20240702T142133Z
LAST-MODIFIED:20240702T142133Z
UID:1412-1720949400-1720960200@feldalinggiu.nadi.my
SUMMARY:Usahawan : Kursus Latihan Pengendali Makanan (KLPM)
DESCRIPTION:Sijil dikeluarkan oleh KKM
URL:https://feldalinggiu.nadi.my/event/usahawan-kursus-latihan-pengendali-makanan-klpm-5/
LOCATION:NADI Felda Linggiu (Online)
CATEGORIES:DEFAULT
ATTACH;FMTTYPE=image/jpeg:https://feldalinggiu.nadi.my/wp-content/uploads/2024/07/WhatsApp-Image-2024-07-04-at-5.49.24-PM.jpeg
END:VEVENT
BEGIN:VEVENT
DTSTART;TZID=UTC:20240719T080000
DTEND;TZID=UTC:20240719T170000
DTSTAMP:20260422T035701
CREATED:20240702T143016Z
LAST-MODIFIED:20240702T143016Z
UID:1414-1721376000-1721408400@feldalinggiu.nadi.my
SUMMARY:ICT : Kursus Asas Suntingan Gambar Menggunakan Smartphone
DESCRIPTION:rujuk poster untuk segala butiran.. Daftar di link ini : https://forms.gle/atMYc76gX5719u3T8
URL:https://feldalinggiu.nadi.my/event/ict-kursus-asas-suntingan-gambar-menggunakan-smartphone/
LOCATION:Kolej Komuniti Bandar Tenggara\, Kolej Komuniti Bandar Tenggara
CATEGORIES:DEFAULT
ATTACH;FMTTYPE=image/jpeg:https://feldalinggiu.nadi.my/wp-content/uploads/2024/07/WhatsApp-Image-2024-06-20-at-9.15.19-PM.jpeg
END:VEVENT
BEGIN:VEVENT
DTSTART;TZID=UTC:20240720T080000
DTEND;TZID=UTC:20240720T170000
DTSTAMP:20260422T035701
CREATED:20240702T143200Z
LAST-MODIFIED:20240702T143200Z
UID:1415-1721462400-1721494800@feldalinggiu.nadi.my
SUMMARY:ICT : Kursus Asas Penyiaran Iklan Menggunakan Smartphone
DESCRIPTION:rujuk poster untuk segala butiran.. Daftar di link ini : https://forms.gle/atMYc76gX5719u3T8
URL:https://feldalinggiu.nadi.my/event/ict-kursus-asas-penyiaran-iklan-menggunakan-smartphone/
LOCATION:Kolej Komuniti Bandar Tenggara\, Kolej Komuniti Bandar Tenggara
CATEGORIES:DEFAULT
ATTACH;FMTTYPE=image/jpeg:https://feldalinggiu.nadi.my/wp-content/uploads/2024/07/WhatsApp-Image-2024-06-20-at-9.15.19-PM.jpeg
END:VEVENT
END:VCALENDAR