BEGIN:VCALENDAR
VERSION:2.0
PRODID:-//NADI Felda Linggiu - ECPv6.15.13.1//NONSGML v1.0//EN
CALSCALE:GREGORIAN
METHOD:PUBLISH
X-WR-CALNAME:NADI Felda Linggiu
X-ORIGINAL-URL:https://feldalinggiu.nadi.my
X-WR-CALDESC:Events for NADI Felda Linggiu
REFRESH-INTERVAL;VALUE=DURATION:PT1H
X-Robots-Tag:noindex
X-PUBLISHED-TTL:PT1H
BEGIN:VTIMEZONE
TZID:UTC
BEGIN:STANDARD
TZOFFSETFROM:+0000
TZOFFSETTO:+0000
TZNAME:UTC
DTSTART:20230101T000000
END:STANDARD
END:VTIMEZONE
BEGIN:VEVENT
DTSTART;TZID=UTC:20240907T093000
DTEND;TZID=UTC:20240907T123000
DTSTAMP:20260420T231553
CREATED:20240822T171519Z
LAST-MODIFIED:20240822T171519Z
UID:1421-1725701400-1725712200@feldalinggiu.nadi.my
SUMMARY:Usahawan: Kursus Latihan Pengendali Makanan (KLPM)
DESCRIPTION:Sijil diiktiraf KKM
URL:https://feldalinggiu.nadi.my/event/usahawan-kursus-latihan-pengendali-makanan-klpm-6/
LOCATION:NADI Felda Linggiu (Online)
CATEGORIES:DEFAULT
ATTACH;FMTTYPE=image/jpeg:https://feldalinggiu.nadi.my/wp-content/uploads/2024/09/WhatsApp-Image-2024-08-20-at-3.01.02-PM.jpeg
END:VEVENT
BEGIN:VEVENT
DTSTART;TZID=UTC:20240909T090000
DTEND;TZID=UTC:20240909T130000
DTSTAMP:20260420T231554
CREATED:20240905T145337Z
LAST-MODIFIED:20240905T145337Z
UID:1422-1725872400-1725886800@feldalinggiu.nadi.my
SUMMARY:Usahawan: Program SSM BizStart 2024 Siri 5
DESCRIPTION:*PROGRAM SSM BIZSTART 2024 (SIRI 5)* — ?? *PERCUMA*\n9 SEPTEMBER 2024\n9.00 PAGI – 1.00 TENGAHARI\ndi NADI FELDA LINGGIU @ ONLINE (DUA-DUA BOLEH) \n?? SEBUAH TAKLIMAT OLEH PIHAK SURUHANJAYA SYARIKAT MALAYSIA (SSM) YANG DIADAKAN SECARA ONLINE. \nDaftar di link ini : *https://forms.gle/atMYc76gX5719u3T8*\nTarikh tutup daftar: *8hb September 2024\, 6 petang*
URL:https://feldalinggiu.nadi.my/event/usahawan-program-ssm-bizstart-2024-siri-5/
LOCATION:NADI Felda Linggiu (Online)
CATEGORIES:DEFAULT
END:VEVENT
BEGIN:VEVENT
DTSTART;TZID=UTC:20240914T090000
DTEND;TZID=UTC:20240914T230000
DTSTAMP:20260420T231554
CREATED:20240907T134240Z
LAST-MODIFIED:20240907T134240Z
UID:1423-1726304400-1726354800@feldalinggiu.nadi.my
SUMMARY:ICT: Pertandingan Video Pendek Sempena Hari Malaysia
DESCRIPTION:Jika anda berminat ingin menyertai\, picit link ni : https://rb.gy/24lmj9 \nSyarat Penyertaan rujuk pada poster.\n#MerdekaSamaSama #UntukTenggara #BersamaNADI #HomeofTenggara
URL:https://feldalinggiu.nadi.my/event/ict-pertandingan-video-pendek-sempena-hari-malaysia/
LOCATION:NADI Felda Linggiu (Online)
CATEGORIES:DEFAULT
ATTACH;FMTTYPE=image/jpeg:https://feldalinggiu.nadi.my/wp-content/uploads/2024/09/WhatsApp-Image-2024-09-12-at-16.42.34.jpeg
END:VEVENT
BEGIN:VEVENT
DTSTART;TZID=UTC:20240926T100000
DTEND;TZID=UTC:20240926T150000
DTSTAMP:20260420T231554
CREATED:20240913T152709Z
LAST-MODIFIED:20240913T152709Z
UID:1424-1727344800-1727362800@feldalinggiu.nadi.my
SUMMARY:Pembukaan Kaunter Perkhidmatan Maybank di NADI FELDA Linggiu
DESCRIPTION:
URL:https://feldalinggiu.nadi.my/event/pembukaan-kaunter-perkhidmatan-maybank-di-nadi-felda-linggiu/
LOCATION:NADI Felda Linggiu\, NADI Felda Linggiu
CATEGORIES:DEFAULT
ATTACH;FMTTYPE=image/png:https://feldalinggiu.nadi.my/wp-content/uploads/2024/09/program.png
END:VEVENT
END:VCALENDAR